BEGIN:VCALENDAR
VERSION:2.0
PRODID:-//Mobile Healthcare Association - ECPv6.15.3//NONSGML v1.0//EN
CALSCALE:GREGORIAN
METHOD:PUBLISH
X-ORIGINAL-URL:https://mobilehca.org
X-WR-CALDESC:Events for Mobile Healthcare Association
REFRESH-INTERVAL;VALUE=DURATION:PT1H
X-Robots-Tag:noindex
X-PUBLISHED-TTL:PT1H
BEGIN:VTIMEZONE
TZID:America/Chicago
BEGIN:DAYLIGHT
TZOFFSETFROM:-0600
TZOFFSETTO:-0500
TZNAME:CDT
DTSTART:20260308T080000
END:DAYLIGHT
BEGIN:STANDARD
TZOFFSETFROM:-0500
TZOFFSETTO:-0600
TZNAME:CST
DTSTART:20261101T070000
END:STANDARD
END:VTIMEZONE
BEGIN:VEVENT
DTSTART;TZID=America/Chicago:20260313T123000
DTEND;TZID=America/Chicago:20260313T130000
DTSTAMP:20260423T153456
CREATED:20260312T184426Z
LAST-MODIFIED:20260312T185153Z
UID:10000234-1773405000-1773406800@mobilehca.org
SUMMARY:Q&A Session – Call for Abstracts
DESCRIPTION:Presenting at this year’s conference in Kansas City\, September 26–28\, 2026 is a great opportunity to:\n✅ Highlight your work advancing mobile healthcare\n✅ Connect with leaders and advocates\n✅ Engage with peers facing similar challenges \n📌 Abstract submission deadline: Tuesday\, April 21\, 2026 \n 
URL:https://mobilehca.org/events-single/qa-session-call-for-abstracts/
LOCATION:Virtual Event\, Virtual\, AK
ATTACH;FMTTYPE=image/jpeg:https://mobilehca.org/wp-content/uploads/2026/03/speaker.avif
END:VEVENT
END:VCALENDAR