BEGIN:VCALENDAR
VERSION:2.0
PRODID:-//Mobile Healthcare Association - ECPv6.15.3//NONSGML v1.0//EN
CALSCALE:GREGORIAN
METHOD:PUBLISH
X-WR-CALNAME:Mobile Healthcare Association
X-ORIGINAL-URL:https://mobilehca.org
X-WR-CALDESC:Events for Mobile Healthcare Association
REFRESH-INTERVAL;VALUE=DURATION:PT1H
X-Robots-Tag:noindex
X-PUBLISHED-TTL:PT1H
BEGIN:VTIMEZONE
TZID:America/Chicago
BEGIN:DAYLIGHT
TZOFFSETFROM:-0600
TZOFFSETTO:-0500
TZNAME:CDT
DTSTART:20240310T080000
END:DAYLIGHT
BEGIN:STANDARD
TZOFFSETFROM:-0500
TZOFFSETTO:-0600
TZNAME:CST
DTSTART:20241103T070000
END:STANDARD
END:VTIMEZONE
BEGIN:VTIMEZONE
TZID:America/Toronto
BEGIN:DAYLIGHT
TZOFFSETFROM:-0500
TZOFFSETTO:-0400
TZNAME:EDT
DTSTART:20240310T070000
END:DAYLIGHT
BEGIN:STANDARD
TZOFFSETFROM:-0400
TZOFFSETTO:-0500
TZNAME:EST
DTSTART:20241103T060000
END:STANDARD
END:VTIMEZONE
BEGIN:VEVENT
DTSTART;TZID=America/Chicago:20240412T093000
DTEND;TZID=America/Chicago:20240412T140000
DTSTAMP:20260424T195856
CREATED:20231204T180526Z
LAST-MODIFIED:20231204T213521Z
UID:10000090-1712914200-1712930400@mobilehca.org
SUMMARY:Q2 2024 Texas Coalition Meeting
DESCRIPTION:Texas Regional Coalition meets annually to network with their mobile healthcare colleagues\, share best practices and learn more about what other programs are doing in their communities.
URL:https://mobilehca.org/events-single/texas-coalition-meeting/
LOCATION:Texas Regional Coalition Meeting\, People's Community Clinic 1101 Camino La Costa Austin\, TX 78752
CATEGORIES:Regional Coalition Meetings
ATTACH;FMTTYPE=image/jpeg:https://mobilehca.org/wp-content/uploads/2022/12/board-nominations-min-jpg.webp
END:VEVENT
BEGIN:VEVENT
DTSTART;TZID=America/Toronto:20240412T100000
DTEND;TZID=America/Toronto:20240412T140000
DTSTAMP:20260424T195856
CREATED:20231204T180027Z
LAST-MODIFIED:20231204T213536Z
UID:10000089-1712916000-1712930400@mobilehca.org
SUMMARY:Q2 2024 Ohio Coalition Meeting
DESCRIPTION:Ohio Regional Coalition meets annually to network with their mobile healthcare colleagues\, share best practices and learn more about what other programs are doing in their communities.
URL:https://mobilehca.org/events-single/ohio-coalition-meeting/
LOCATION:Ohio Regional Coalition Meeting\, Blom Administrative Campus - Ballrooms 2 & 3\, 3430 OhioHealth Pkwy Columbus\,\, OH\, 43202
CATEGORIES:Regional Coalition Meetings
ATTACH;FMTTYPE=image/jpeg:https://mobilehca.org/wp-content/uploads/2022/12/agenda-min-jpg.webp
END:VEVENT
END:VCALENDAR