BEGIN:VCALENDAR
VERSION:2.0
PRODID:-//Mobile Healthcare Association - ECPv6.15.3//NONSGML v1.0//EN
CALSCALE:GREGORIAN
METHOD:PUBLISH
X-ORIGINAL-URL:https://mobilehca.org
X-WR-CALDESC:Events for Mobile Healthcare Association
REFRESH-INTERVAL;VALUE=DURATION:PT1H
X-Robots-Tag:noindex
X-PUBLISHED-TTL:PT1H
BEGIN:VTIMEZONE
TZID:America/Vancouver
BEGIN:DAYLIGHT
TZOFFSETFROM:-0800
TZOFFSETTO:-0700
TZNAME:PDT
DTSTART:20240310T100000
END:DAYLIGHT
BEGIN:STANDARD
TZOFFSETFROM:-0700
TZOFFSETTO:-0800
TZNAME:PST
DTSTART:20241103T090000
END:STANDARD
END:VTIMEZONE
BEGIN:VTIMEZONE
TZID:America/Chicago
BEGIN:DAYLIGHT
TZOFFSETFROM:-0600
TZOFFSETTO:-0500
TZNAME:CDT
DTSTART:20240310T080000
END:DAYLIGHT
BEGIN:STANDARD
TZOFFSETFROM:-0500
TZOFFSETTO:-0600
TZNAME:CST
DTSTART:20241103T070000
END:STANDARD
END:VTIMEZONE
BEGIN:VEVENT
DTSTART;TZID=America/Vancouver:20240125T173000
DTEND;TZID=America/Vancouver:20240125T193000
DTSTAMP:20260424T184115
CREATED:20231204T162042Z
LAST-MODIFIED:20240109T232856Z
UID:10000084-1706203800-1706211000@mobilehca.org
SUMMARY:Q1 2024 Southern California Coalition Social
DESCRIPTION:Southern California meets bi-annually to network with their mobile healthcare colleagues\, share best practices and learn more about what other programs are doing in their communities.
URL:https://mobilehca.org/events-single/q1-southern-california-regional-coalition-meeting/
LOCATION:Q2 Southern California Regional Coalition Meeting\, The California Endowment 1000 N. Alameda St Los Angeles\, CA 90012\, CA
CATEGORIES:Regional Coalition Meetings
ATTACH;FMTTYPE=image/jpeg:https://mobilehca.org/wp-content/uploads/2022/12/pre-conference-training-intensive-course-min-jpg.webp
END:VEVENT
BEGIN:VEVENT
DTSTART;TZID=America/Chicago:20240126T100000
DTEND;TZID=America/Chicago:20240126T150000
DTSTAMP:20260424T184115
CREATED:20231205T194821Z
LAST-MODIFIED:20231205T195159Z
UID:10000094-1706263200-1706281200@mobilehca.org
SUMMARY:Q1 2024 Illinois Coalition
DESCRIPTION:
URL:https://mobilehca.org/events-single/illinois-coalition/
LOCATION:Illinois Regional Coalition Meeting\, Ann & Robert H. Lurie Children’s Hospital of Chicago 225 E. Chicago Ave. Chicago\, IL 60611\, Chicago\, IL\, United States
CATEGORIES:Regional Coalition Meetings
ATTACH;FMTTYPE=image/jpeg:https://mobilehca.org/wp-content/uploads/2022/12/posters-min-jpg.webp
END:VEVENT
END:VCALENDAR