BEGIN:VCALENDAR
VERSION:2.0
PRODID:-//Mobile Healthcare Association - ECPv6.15.3//NONSGML v1.0//EN
CALSCALE:GREGORIAN
METHOD:PUBLISH
X-ORIGINAL-URL:https://mobilehca.org
X-WR-CALDESC:Events for Mobile Healthcare Association
REFRESH-INTERVAL;VALUE=DURATION:PT1H
X-Robots-Tag:noindex
X-PUBLISHED-TTL:PT1H
BEGIN:VTIMEZONE
TZID:UTC
BEGIN:STANDARD
TZOFFSETFROM:+0000
TZOFFSETTO:+0000
TZNAME:UTC
DTSTART:20220101T000000
END:STANDARD
END:VTIMEZONE
BEGIN:VEVENT
DTSTART;VALUE=DATE:20221206
DTEND;VALUE=DATE:20230102
DTSTAMP:20260425T112841
CREATED:20221206T104716Z
LAST-MODIFIED:20230406T183936Z
UID:10000002-1670313600-1672592400@mobilehca.org
SUMMARY:19th Annual Mobile Health Clinics Conference
DESCRIPTION:Over the years\, the annual conference has become the go-to resource for those seeking to further their knowledge and share their experiences with other mobile programs from diverse disciplines within the mobile healthcare field. Whether you are operating or launching a mobile healthcare program\, you will learn from top professionals\, connect with like-minded colleagues\, and share best practices and experiences.  \nRegister Here
URL:https://mobilehca.org/events-single/19th-annual-mobile-health-clinics-conference-countdown/
LOCATION:Annual Conference 2026\, 301 West 13th Street\, Kansas City\, MO\, 00000\, United States
CATEGORIES:Annual Conference
ATTACH;FMTTYPE=image/jpeg:https://mobilehca.org/wp-content/uploads/2022/12/events-image-min-jpg.webp
END:VEVENT
END:VCALENDAR