BEGIN:VCALENDAR
VERSION:2.0
PRODID:-//Mobile Healthcare Association - ECPv6.15.3//NONSGML v1.0//EN
CALSCALE:GREGORIAN
METHOD:PUBLISH
X-WR-CALNAME:Mobile Healthcare Association
X-ORIGINAL-URL:https://mobilehca.org
X-WR-CALDESC:Events for Mobile Healthcare Association
REFRESH-INTERVAL;VALUE=DURATION:PT1H
X-Robots-Tag:noindex
X-PUBLISHED-TTL:PT1H
BEGIN:VTIMEZONE
TZID:America/Chicago
BEGIN:DAYLIGHT
TZOFFSETFROM:-0600
TZOFFSETTO:-0500
TZNAME:CDT
DTSTART:20260308T080000
END:DAYLIGHT
BEGIN:STANDARD
TZOFFSETFROM:-0500
TZOFFSETTO:-0600
TZNAME:CST
DTSTART:20261101T070000
END:STANDARD
END:VTIMEZONE
BEGIN:VTIMEZONE
TZID:America/Indiana/Marengo
BEGIN:DAYLIGHT
TZOFFSETFROM:-0500
TZOFFSETTO:-0400
TZNAME:EDT
DTSTART:20260308T070000
END:DAYLIGHT
BEGIN:STANDARD
TZOFFSETFROM:-0400
TZOFFSETTO:-0500
TZNAME:EST
DTSTART:20261101T060000
END:STANDARD
END:VTIMEZONE
BEGIN:VTIMEZONE
TZID:America/Vancouver
BEGIN:DAYLIGHT
TZOFFSETFROM:-0800
TZOFFSETTO:-0700
TZNAME:PDT
DTSTART:20260308T100000
END:DAYLIGHT
BEGIN:STANDARD
TZOFFSETFROM:-0700
TZOFFSETTO:-0800
TZNAME:PST
DTSTART:20261101T090000
END:STANDARD
END:VTIMEZONE
BEGIN:VEVENT
DTSTART;TZID=America/Chicago:20260610T130000
DTEND;TZID=America/Chicago:20260610T150000
DTSTAMP:20260423T180701
CREATED:20260410T144749Z
LAST-MODIFIED:20260410T145328Z
UID:10000235-1781096400-1781103600@mobilehca.org
SUMMARY:New York City Coalition Meeting
DESCRIPTION:
URL:https://mobilehca.org/events-single/new-york-city-coalition-meeting-2/
CATEGORIES:Regional Coalition Meetings
ATTACH;FMTTYPE=image/png:https://mobilehca.org/wp-content/uploads/2022/12/nyc-image-desktop.png
END:VEVENT
BEGIN:VEVENT
DTSTART;TZID=America/Indiana/Marengo:20260612T100000
DTEND;TZID=America/Indiana/Marengo:20260612T140000
DTSTAMP:20260423T180701
CREATED:20251204T184139Z
LAST-MODIFIED:20251204T190853Z
UID:10000212-1781258400-1781272800@mobilehca.org
SUMMARY:Q2-2 2026 Illinois Coalition Meeting at Lurie Children's Hospital
DESCRIPTION:
URL:https://mobilehca.org/events-single/q2-2026-ohio-coalition-meeting/
CATEGORIES:Regional Coalition Meetings
ATTACH;FMTTYPE=image/png:https://mobilehca.org/wp-content/uploads/2022/12/ohio-image-desktop.png
END:VEVENT
BEGIN:VEVENT
DTSTART;TZID=America/Vancouver:20260625T090000
DTEND;TZID=America/Vancouver:20260625T143000
DTSTAMP:20260423T180701
CREATED:20251204T185111Z
LAST-MODIFIED:20251204T185111Z
UID:10000216-1782378000-1782397800@mobilehca.org
SUMMARY:Q2 2026 Southern California Coalition Meeting
DESCRIPTION:
URL:https://mobilehca.org/events-single/q2-2026-southern-california-coalition-meeting/
CATEGORIES:Regional Coalition Meetings
ATTACH;FMTTYPE=image/png:https://mobilehca.org/wp-content/uploads/2022/12/SoCal-CoalitionPhoto.png
END:VEVENT
BEGIN:VEVENT
DTSTART;TZID=America/Chicago:20260811T140000
DTEND;TZID=America/Chicago:20260811T150000
DTSTAMP:20260423T180701
CREATED:20251124T225332Z
LAST-MODIFIED:20251124T225504Z
UID:10000196-1786456800-1786460400@mobilehca.org
SUMMARY:2026 Q3 Evaluation + Impact Special Interest Group Meeting
DESCRIPTION:
URL:https://mobilehca.org/events-single/2026-q3-evaluation-impact-special-interest-group-meeting/
CATEGORIES:Special Interest Group Meetings
ATTACH;FMTTYPE=image/png:https://mobilehca.org/wp-content/uploads/2025/06/EvaluationCover.png
END:VEVENT
BEGIN:VEVENT
DTSTART;TZID=America/Chicago:20260926T080000
DTEND;TZID=America/Chicago:20260928T170000
DTSTAMP:20260423T180701
CREATED:20251022T230044Z
LAST-MODIFIED:20260319T162054Z
UID:10000172-1790409600-1790614800@mobilehca.org
SUMMARY:22nd Annual Mobile Health Clinics Conference
DESCRIPTION:
URL:https://mobilehca.org/events-single/2026-annual-mobile-healthcare-association-conference/
CATEGORIES:Annual Conference
ATTACH;FMTTYPE=image/webp:https://mobilehca.org/wp-content/uploads/2025/10/DSC07107.webp
END:VEVENT
BEGIN:VEVENT
DTSTART;TZID=America/Chicago:20260926T090000
DTEND;TZID=America/Chicago:20260926T160000
DTSTAMP:20260423T180701
CREATED:20260309T153939Z
LAST-MODIFIED:20260309T154102Z
UID:10000231-1790413200-1790438400@mobilehca.org
SUMMARY:Pre-Conference Mobile Health Clinics Intensive Training Course
DESCRIPTION:
URL:https://mobilehca.org/events-single/pre-conference-mobile-health-clinics-intensive-training-course/
CATEGORIES:Annual Conference
ATTACH;FMTTYPE=image/jpeg:https://mobilehca.org/wp-content/uploads/2022/12/board-nominations-min-jpg.webp
END:VEVENT
BEGIN:VEVENT
DTSTART;VALUE=DATE:20260928
DTEND;VALUE=DATE:20260929
DTSTAMP:20260423T180701
CREATED:20251124T215909Z
LAST-MODIFIED:20251124T215909Z
UID:10000175-1790553600-1790639999@mobilehca.org
SUMMARY:2026 Q3 Behavioral Health Special Interest Group Meeting
DESCRIPTION:
URL:https://mobilehca.org/events-single/2026-q3-behavioral-health-special-interest-group-meeting/
CATEGORIES:Special Interest Group Meetings
ATTACH;FMTTYPE=image/webp:https://mobilehca.org/wp-content/uploads/2025/07/events-image-min-jpg.webp
END:VEVENT
BEGIN:VEVENT
DTSTART;VALUE=DATE:20260928
DTEND;VALUE=DATE:20260929
DTSTAMP:20260423T180701
CREATED:20251124T221314Z
LAST-MODIFIED:20251124T221314Z
UID:10000182-1790553600-1790639999@mobilehca.org
SUMMARY:2026 Q3 Mammography Special Interest Group Meeting
DESCRIPTION:
URL:https://mobilehca.org/events-single/2026-q3-mammography-special-interest-group-meeting/
CATEGORIES:Special Interest Group Meetings
ATTACH;FMTTYPE=image/webp:https://mobilehca.org/wp-content/uploads/2025/06/mammography-image-desktop-jpg.webp
END:VEVENT
BEGIN:VEVENT
DTSTART;VALUE=DATE:20260928
DTEND;VALUE=DATE:20260929
DTSTAMP:20260423T180701
CREATED:20251124T222448Z
LAST-MODIFIED:20251124T222448Z
UID:10000186-1790553600-1790639999@mobilehca.org
SUMMARY:2026 Q3 Pediatrics Special Interest Group Meeting
DESCRIPTION:
URL:https://mobilehca.org/events-single/2026-q3-pediatrics-special-interest-group-meeting/
CATEGORIES:Special Interest Group Meetings
ATTACH;FMTTYPE=image/webp:https://mobilehca.org/wp-content/uploads/2025/06/pediatrics-image-desktop-jpg.webp
END:VEVENT
BEGIN:VEVENT
DTSTART;VALUE=DATE:20260928
DTEND;VALUE=DATE:20260929
DTSTAMP:20260423T180701
CREATED:20251124T223102Z
LAST-MODIFIED:20251124T223102Z
UID:10000190-1790553600-1790639999@mobilehca.org
SUMMARY:2026 Q3 Sexual and Reproductive Health Special Interest Group Meeting
DESCRIPTION:
URL:https://mobilehca.org/events-single/2026-q3-sexual-and-reproductive-health-special-interest-group-meeting/
CATEGORIES:Special Interest Group Meetings
ATTACH;FMTTYPE=image/jpeg:https://mobilehca.org/wp-content/uploads/2022/12/sexual-and-reproductive-health-image-desktop-jpg.webp
END:VEVENT
BEGIN:VEVENT
DTSTART;VALUE=DATE:20260928
DTEND;VALUE=DATE:20260929
DTSTAMP:20260423T180701
CREATED:20251124T223551Z
LAST-MODIFIED:20251124T223551Z
UID:10000194-1790553600-1790639999@mobilehca.org
SUMMARY:2026 Q3 Vision Special Interest Group Meeting
DESCRIPTION:
URL:https://mobilehca.org/events-single/2026-q3-vision-special-interest-group-meeting/
CATEGORIES:Special Interest Group Meetings
ATTACH;FMTTYPE=image/jpeg:https://mobilehca.org/wp-content/uploads/2022/12/vision-image-desktop-jpg.webp
END:VEVENT
BEGIN:VEVENT
DTSTART;TZID=America/Chicago:20261028T130000
DTEND;TZID=America/Chicago:20261028T141500
DTSTAMP:20260423T180701
CREATED:20251218T174020Z
LAST-MODIFIED:20251223T164325Z
UID:10000224-1793192400-1793196900@mobilehca.org
SUMMARY:Financial Stability: Two Part Session - Part One
DESCRIPTION:As mobile healthcare programs face increasing uncertainty in federal and grant funding\, financial resilience has become essential for long-term impact. \nPart 1: October 28\, 2026 \nPart 1 of the Financial Stability Masterclass provides an in-depth foundation in sustainable revenue-cycle principles tailored to mobile operations. Participants will explore the components of a strong financial model\, gain clarity on the unique billing and reimbursement considerations for mobile care\, and learn how to identify and leverage diverse funding streams. This session emphasizes strategic decision-making and highlights opportunities to strengthen financial stability through partnerships with financial experts and community funders. \nLearning Objectives:\nBy the end of this session\, participants will be able to: \n\nDevelop a sustainable financial model that incorporates effective revenue cycle management strategies for mobile healthcare.\nIdentify and evaluate potential partnerships with financial experts\, community organizations\, and funding resources that support ongoing program stability.\nRecognize the key components of mobile healthcare billing and how they impact organizational financial planning.
URL:https://mobilehca.org/events-single/financial-stability-two-part-session/
CATEGORIES:Webinars
ATTACH;FMTTYPE=image/png:https://mobilehca.org/wp-content/uploads/2025/12/masterclass-financial-security.png
END:VEVENT
BEGIN:VEVENT
DTSTART;TZID=America/Chicago:20261104T130000
DTEND;TZID=America/Chicago:20261104T141500
DTSTAMP:20260423T180701
CREATED:20251218T184738Z
LAST-MODIFIED:20251218T184919Z
UID:10000226-1793797200-1793801700@mobilehca.org
SUMMARY:Financial Stability: Two Part Session - Part Two
DESCRIPTION:Part 2: November 4\, 2026 \nBuilding on the foundational concepts from Part 1\, Part 2 equips participants with the technical and operational knowledge needed to optimize reimbursement and reduce financial risk. This session focuses on the complexities of Medicaid billing\, the nuances of mobile-specific documentation requirements\, and common pitfalls that lead to denied or delayed payments. Participants will learn practical denial-management strategies and explore process improvements to strengthen the mobile unit’s financial performance. This hands-on\, solutions-focused session ensures that organizations leave better prepared to safeguard and grow their revenue. \nLearning Objectives:\nBy the end of this session\, participants will be able to: \n\nInterpret and apply key Medicaid billing rules and requirements specific to mobile healthcare.\nIdentify common mobile health billing issues and implement solutions to prevent errors.\nApply denial management techniques to increase reimbursement and improve overall revenue integrity.\nStrengthen internal processes to support timely\, accurate billing and financial decision-making.
URL:https://mobilehca.org/events-single/financial-stability-two-part-session-part-two/
CATEGORIES:Webinars
ATTACH;FMTTYPE=image/png:https://mobilehca.org/wp-content/uploads/2025/12/masterclass-financial-security.png
END:VEVENT
BEGIN:VEVENT
DTSTART;TZID=America/Chicago:20261105T140000
DTEND;TZID=America/Chicago:20261105T150000
DTSTAMP:20260423T180701
CREATED:20251204T204837Z
LAST-MODIFIED:20251204T204837Z
UID:10000219-1793887200-1793890800@mobilehca.org
SUMMARY:Q4 2026 Behavioral Health Special Interest Group Meeting
DESCRIPTION:
URL:https://mobilehca.org/events-single/q4-2026-behavioral-health-special-interest-group-meeting/
CATEGORIES:Regional Coalition Meetings
ATTACH;FMTTYPE=image/jpeg:https://mobilehca.org/wp-content/uploads/2022/12/events-image-min-jpg.webp
END:VEVENT
BEGIN:VEVENT
DTSTART;TZID=America/Chicago:20261110T140000
DTEND;TZID=America/Chicago:20261110T150000
DTSTAMP:20260423T180701
CREATED:20251124T220817Z
LAST-MODIFIED:20251124T221547Z
UID:10000179-1794319200-1794322800@mobilehca.org
SUMMARY:2026 Q4 Evaluation + Impact Special Interest Group Meeting
DESCRIPTION:
URL:https://mobilehca.org/events-single/2026-q4-evaluation-impact-special-interest-group-meeting/
CATEGORIES:Special Interest Group Meetings
ATTACH;FMTTYPE=image/png:https://mobilehca.org/wp-content/uploads/2025/07/EvaluationCover.png
END:VEVENT
BEGIN:VEVENT
DTSTART;TZID=America/Chicago:20261112T140000
DTEND;TZID=America/Chicago:20261112T150000
DTSTAMP:20260423T180701
CREATED:20251124T222616Z
LAST-MODIFIED:20251124T222616Z
UID:10000187-1794492000-1794495600@mobilehca.org
SUMMARY:2026 Q4 Pediatrics Special Interest Group Meeting
DESCRIPTION:
URL:https://mobilehca.org/events-single/2026-q4-pediatrics-special-interest-group-meeting/
CATEGORIES:Special Interest Group Meetings
ATTACH;FMTTYPE=image/webp:https://mobilehca.org/wp-content/uploads/2025/06/pediatrics-image-desktop-jpg.webp
END:VEVENT
BEGIN:VEVENT
DTSTART;TZID=America/Chicago:20261117T140000
DTEND;TZID=America/Chicago:20261117T150000
DTSTAMP:20260423T180701
CREATED:20251124T221512Z
LAST-MODIFIED:20251124T221512Z
UID:10000183-1794924000-1794927600@mobilehca.org
SUMMARY:2026 Q4 Mammography Special Interest Group Meeting
DESCRIPTION:
URL:https://mobilehca.org/events-single/2026-q4-mammography-special-interest-group-meeting/
CATEGORIES:Special Interest Group Meetings
ATTACH;FMTTYPE=image/jpeg:https://mobilehca.org/wp-content/uploads/2022/12/mammography-image-desktop-jpg.webp
END:VEVENT
BEGIN:VEVENT
DTSTART;TZID=America/Chicago:20261119T130000
DTEND;TZID=America/Chicago:20261119T140000
DTSTAMP:20260423T180701
CREATED:20251124T223839Z
LAST-MODIFIED:20251124T225022Z
UID:10000195-1795093200-1795096800@mobilehca.org
SUMMARY:2026 Q4 Vision Special Interest Group Meeting
DESCRIPTION:
URL:https://mobilehca.org/events-single/2026-q4-vision-special-interest-group-meeting/
CATEGORIES:Special Interest Group Meetings
ATTACH;FMTTYPE=image/jpeg:https://mobilehca.org/wp-content/uploads/2022/12/vision-image-desktop-jpg.webp
END:VEVENT
BEGIN:VEVENT
DTSTART;TZID=America/Chicago:20261120T130000
DTEND;TZID=America/Chicago:20261120T140000
DTSTAMP:20260423T180701
CREATED:20251124T223210Z
LAST-MODIFIED:20251124T223210Z
UID:10000191-1795179600-1795183200@mobilehca.org
SUMMARY:2026 Q4 Sexual and Reproductive Health Special Interest Group Meeting
DESCRIPTION:
URL:https://mobilehca.org/events-single/2026-q4-sexual-and-reproductive-health-special-interest-group-meeting/
ATTACH;FMTTYPE=image/jpeg:https://mobilehca.org/wp-content/uploads/2022/12/sexual-and-reproductive-health-image-desktop-jpg.webp
END:VEVENT
END:VCALENDAR