BEGIN:VCALENDAR
VERSION:2.0
PRODID:-//Mobile Healthcare Association - ECPv6.15.3//NONSGML v1.0//EN
CALSCALE:GREGORIAN
METHOD:PUBLISH
X-WR-CALNAME:Mobile Healthcare Association
X-ORIGINAL-URL:https://mobilehca.org
X-WR-CALDESC:Events for Mobile Healthcare Association
REFRESH-INTERVAL;VALUE=DURATION:PT1H
X-Robots-Tag:noindex
X-PUBLISHED-TTL:PT1H
BEGIN:VTIMEZONE
TZID:America/Toronto
BEGIN:DAYLIGHT
TZOFFSETFROM:-0500
TZOFFSETTO:-0400
TZNAME:EDT
DTSTART:20240310T070000
END:DAYLIGHT
BEGIN:STANDARD
TZOFFSETFROM:-0400
TZOFFSETTO:-0500
TZNAME:EST
DTSTART:20241103T060000
END:STANDARD
END:VTIMEZONE
BEGIN:VTIMEZONE
TZID:America/Vancouver
BEGIN:DAYLIGHT
TZOFFSETFROM:-0800
TZOFFSETTO:-0700
TZNAME:PDT
DTSTART:20240310T100000
END:DAYLIGHT
BEGIN:STANDARD
TZOFFSETFROM:-0700
TZOFFSETTO:-0800
TZNAME:PST
DTSTART:20241103T090000
END:STANDARD
END:VTIMEZONE
BEGIN:VTIMEZONE
TZID:America/New_York
BEGIN:DAYLIGHT
TZOFFSETFROM:-0500
TZOFFSETTO:-0400
TZNAME:EDT
DTSTART:20230312T070000
END:DAYLIGHT
BEGIN:STANDARD
TZOFFSETFROM:-0400
TZOFFSETTO:-0500
TZNAME:EST
DTSTART:20231105T060000
END:STANDARD
BEGIN:DAYLIGHT
TZOFFSETFROM:-0500
TZOFFSETTO:-0400
TZNAME:EDT
DTSTART:20240310T070000
END:DAYLIGHT
BEGIN:STANDARD
TZOFFSETFROM:-0400
TZOFFSETTO:-0500
TZNAME:EST
DTSTART:20241103T060000
END:STANDARD
END:VTIMEZONE
BEGIN:VTIMEZONE
TZID:America/Chicago
BEGIN:DAYLIGHT
TZOFFSETFROM:-0600
TZOFFSETTO:-0500
TZNAME:CDT
DTSTART:20230312T080000
END:DAYLIGHT
BEGIN:STANDARD
TZOFFSETFROM:-0500
TZOFFSETTO:-0600
TZNAME:CST
DTSTART:20231105T070000
END:STANDARD
BEGIN:DAYLIGHT
TZOFFSETFROM:-0600
TZOFFSETTO:-0500
TZNAME:CDT
DTSTART:20240310T080000
END:DAYLIGHT
BEGIN:STANDARD
TZOFFSETFROM:-0500
TZOFFSETTO:-0600
TZNAME:CST
DTSTART:20241103T070000
END:STANDARD
END:VTIMEZONE
BEGIN:VTIMEZONE
TZID:America/Chicago
BEGIN:DAYLIGHT
TZOFFSETFROM:-0600
TZOFFSETTO:-0500
TZNAME:CDT
DTSTART:20230312T080000
END:DAYLIGHT
BEGIN:STANDARD
TZOFFSETFROM:-0500
TZOFFSETTO:-0600
TZNAME:CST
DTSTART:20231105T070000
END:STANDARD
END:VTIMEZONE
BEGIN:VTIMEZONE
TZID:America/New_York
BEGIN:DAYLIGHT
TZOFFSETFROM:-0500
TZOFFSETTO:-0400
TZNAME:EDT
DTSTART:20230312T070000
END:DAYLIGHT
BEGIN:STANDARD
TZOFFSETFROM:-0400
TZOFFSETTO:-0500
TZNAME:EST
DTSTART:20231105T060000
END:STANDARD
END:VTIMEZONE
BEGIN:VEVENT
DTSTART;TZID=America/Toronto:20240322T093000
DTEND;TZID=America/Toronto:20240322T143000
DTSTAMP:20260424T212549
CREATED:20231204T174724Z
LAST-MODIFIED:20231204T212811Z
UID:10000088-1711099800-1711117800@mobilehca.org
SUMMARY:Q1 2024 Southeast Coalition Meeting
DESCRIPTION:Southeast Regional Coalition meets annually to network with their mobile healthcare colleagues\, share best practices and learn more about what other programs are doing in their communities.
URL:https://mobilehca.org/events-single/southeast-coalition-meeting/
LOCATION:Southeast Region Coalition Meeting\, Prisma Health - Patewood Campus 255 Enterprise Blvd. Building 255 – Conference Room A/B Greenville\, SC\, 29615\, 29615
CATEGORIES:Regional Coalition Meetings
ATTACH;FMTTYPE=image/jpeg:https://mobilehca.org/wp-content/uploads/2022/12/why-attend-image-min-jpg.webp
END:VEVENT
BEGIN:VEVENT
DTSTART;TZID=America/Vancouver:20240321T090000
DTEND;TZID=America/Vancouver:20240321T150000
DTSTAMP:20260424T212549
CREATED:20231204T173706Z
LAST-MODIFIED:20231204T212900Z
UID:10000087-1711011600-1711033200@mobilehca.org
SUMMARY:Q1 2024 Northern California Coalition Meeting
DESCRIPTION:Northern California Regional Coalition meets annually to network with their mobile healthcare colleagues\, share best practices and learn more about what other programs are doing in their communities.
URL:https://mobilehca.org/events-single/northern-california-coalition-meeting/
LOCATION:Northern California Regional Coalition Meeting\, John Muir Health Walnut Creek Medical Center 1601 Ygnacio Valley Rd. Walnut Creek\, CA 94598\, CA\, 94598\, United States
CATEGORIES:Regional Coalition Meetings
ATTACH;FMTTYPE=image/jpeg:https://mobilehca.org/wp-content/uploads/2022/12/abstracts-min-jpg.webp
END:VEVENT
BEGIN:VEVENT
DTSTART;TZID=America/New_York:20240314T130000
DTEND;TZID=America/New_York:20240314T153000
DTSTAMP:20260424T212549
CREATED:20231204T172947Z
LAST-MODIFIED:20231204T212914Z
UID:10000086-1710421200-1710430200@mobilehca.org
SUMMARY:Q1 2024 New York City Coalition Meeting
DESCRIPTION:New York City Regional Coalition meets quarterly to network with their mobile healthcare colleagues\, share best practices and learn more about what other programs are doing in their communities.
URL:https://mobilehca.org/events-single/new-york-city-coalition-meeting/
LOCATION:New York City Coalition Meeting\, Ryan Health 110 West 97th Street (between Columbus and Amsterdam Avenue)\, New York\, NY\, 10021\, United States
CATEGORIES:Regional Coalition Meetings
ATTACH;FMTTYPE=image/jpeg:https://mobilehca.org/wp-content/uploads/2022/12/why-attend-image-min-jpg.webp
END:VEVENT
BEGIN:VEVENT
DTSTART;TZID=America/Chicago:20240215T130000
DTEND;TZID=America/Chicago:20240215T140000
DTSTAMP:20260424T212549
CREATED:20231106T171857Z
LAST-MODIFIED:20240123T232943Z
UID:10000065-1708002000-1708005600@mobilehca.org
SUMMARY:Q1 2024 Vision SIG Meeting
DESCRIPTION:The Vision SIG is committed to supporting and empowering mobile vision screening programs through fostering collaboration\, innovation\, and education. This SIG strives to share its members’ expertise in order to create a community to inform and inspire programs by helping maximize the essential vision health services they provide. The Mobile Healthcare Association Vision SIG will meet virtually quarterly to discuss emerging topics.
URL:https://mobilehca.org/events-single/q1-vision-sig-meeting/
LOCATION:Vision SIG Meeting\, Virtual
CATEGORIES:Special Interest Group Meetings
ATTACH;FMTTYPE=image/png:https://mobilehca.org/wp-content/uploads/2023/02/CoalitionBanner.png
END:VEVENT
BEGIN:VEVENT
DTSTART;TZID=America/Chicago:20240213T140000
DTEND;TZID=America/Chicago:20240213T150000
DTSTAMP:20260424T212549
CREATED:20231204T171816Z
LAST-MODIFIED:20231204T212931Z
UID:10000085-1707832800-1707836400@mobilehca.org
SUMMARY:Q1 2024 Native American Coalition Meeting
DESCRIPTION:This Coalition is a nationwide network of like-minded individuals working toward the improvement of health and increased access to healthcare for Native American communities.
URL:https://mobilehca.org/events-single/native-american-coalition-meeting/
LOCATION:Native American Coalition
CATEGORIES:Regional Coalition Meetings
ATTACH;FMTTYPE=image/jpeg:https://mobilehca.org/wp-content/uploads/2022/12/board-nominations-min-jpg.webp
END:VEVENT
BEGIN:VEVENT
DTSTART;TZID=America/Chicago:20240207T140000
DTEND;TZID=America/Chicago:20240207T150000
DTSTAMP:20260424T212549
CREATED:20231106T164924Z
LAST-MODIFIED:20240123T232719Z
UID:10000057-1707314400-1707318000@mobilehca.org
SUMMARY:Q1 2024 Pediatrics SIG meeting
DESCRIPTION:The Pediatrics SIG provides a forum to discuss and share ideas for those dedicated to promoting the health and well-being of children and adolescents through mobile health. Pediatrics mobile programs provide health services to children whose families have access to care barriers. The Mobile Healthcare Association Pediatrics SIG will meet virtually quarterly to explore strategies for connecting children to a primary care medical home and other needed resources.
URL:https://mobilehca.org/events-single/q1-pediatrics-sig-meeting/
LOCATION:Pediatrics SIG Meeting
CATEGORIES:Special Interest Group Meetings
ATTACH;FMTTYPE=image/png:https://mobilehca.org/wp-content/uploads/2022/12/SIGBanner.png
END:VEVENT
BEGIN:VEVENT
DTSTART;TZID=America/Chicago:20240206T140000
DTEND;TZID=America/Chicago:20240206T150000
DTSTAMP:20260424T212549
CREATED:20231106T173831Z
LAST-MODIFIED:20240123T232924Z
UID:10000070-1707228000-1707231600@mobilehca.org
SUMMARY:Q1 2024 Mammography SIG Meeting
DESCRIPTION:The Mammography SIG is made up of a diverse group of mobile healthcare programs coming together to discuss relevant topics such as best practices\, logistics\, and data comparisons related to mammography. The Mobile Healthcare Association Mammography SIG will meet virtually quarterly to share how mobile mammography programs are providing services and ways to reach women unable to receive regular screenings.
URL:https://mobilehca.org/events-single/q1-mammography-sig-meeting/
LOCATION:Mammography SIG Meeting\, Virtual
CATEGORIES:Special Interest Group Meetings
ATTACH;FMTTYPE=image/jpeg:https://mobilehca.org/wp-content/uploads/2022/12/mammography-image-desktop-jpg.webp
END:VEVENT
BEGIN:VEVENT
DTSTART;TZID=America/Chicago:20240202T130000
DTEND;TZID=America/Chicago:20240202T140000
DTSTAMP:20260424T212549
CREATED:20231106T162056Z
LAST-MODIFIED:20240124T144323Z
UID:10000053-1706878800-1706882400@mobilehca.org
SUMMARY:Q1 2024 Sexual & Reproductive Health SIG meeting
DESCRIPTION:The Sexual & Reproductive Health SIG is made up of a diverse group of mobile healthcare programs offering these services in a variety of ways! This SIG seeks to be a support system for one another and for any programs interested in improving access to SRH services on their mobile unit. The Mobile Healthcare Association Sexual & Reproductive Health SIG will meet virtually quarterly to share best practices in the hopes of making high-quality SRH services more accessible to all.
URL:https://mobilehca.org/events-single/q1-sexual-reproductive-health-sig-meeting/
LOCATION:Sexual and Reproductive Health SIG Meeting\, Virtual\, United States
CATEGORIES:Special Interest Group Meetings
ATTACH;FMTTYPE=image/png:https://mobilehca.org/wp-content/uploads/2023/03/healthpolicy.png
END:VEVENT
BEGIN:VEVENT
DTSTART;TZID=America/Chicago:20240126T100000
DTEND;TZID=America/Chicago:20240126T150000
DTSTAMP:20260424T212549
CREATED:20231205T194821Z
LAST-MODIFIED:20231205T195159Z
UID:10000094-1706263200-1706281200@mobilehca.org
SUMMARY:Q1 2024 Illinois Coalition
DESCRIPTION:
URL:https://mobilehca.org/events-single/illinois-coalition/
LOCATION:Illinois Regional Coalition Meeting\, Ann & Robert H. Lurie Children’s Hospital of Chicago 225 E. Chicago Ave. Chicago\, IL 60611\, Chicago\, IL\, United States
CATEGORIES:Regional Coalition Meetings
ATTACH;FMTTYPE=image/jpeg:https://mobilehca.org/wp-content/uploads/2022/12/posters-min-jpg.webp
END:VEVENT
BEGIN:VEVENT
DTSTART;TZID=America/Vancouver:20240125T173000
DTEND;TZID=America/Vancouver:20240125T193000
DTSTAMP:20260424T212549
CREATED:20231204T162042Z
LAST-MODIFIED:20240109T232856Z
UID:10000084-1706203800-1706211000@mobilehca.org
SUMMARY:Q1 2024 Southern California Coalition Social
DESCRIPTION:Southern California meets bi-annually to network with their mobile healthcare colleagues\, share best practices and learn more about what other programs are doing in their communities.
URL:https://mobilehca.org/events-single/q1-southern-california-regional-coalition-meeting/
LOCATION:Q2 Southern California Regional Coalition Meeting\, The California Endowment 1000 N. Alameda St Los Angeles\, CA 90012\, CA
CATEGORIES:Regional Coalition Meetings
ATTACH;FMTTYPE=image/jpeg:https://mobilehca.org/wp-content/uploads/2022/12/pre-conference-training-intensive-course-min-jpg.webp
END:VEVENT
BEGIN:VEVENT
DTSTART;TZID=America/Chicago:20240119T100000
DTEND;TZID=America/Chicago:20240119T120000
DTSTAMP:20260424T212549
CREATED:20231204T161404Z
LAST-MODIFIED:20240105T170256Z
UID:10000083-1705658400-1705665600@mobilehca.org
SUMMARY:Q1 2024 Florida Regional Coalition Meeting
DESCRIPTION:Florida Regional Coalition meets biannually (1x virtually\, 1x in-person) to network with their mobile healthcare colleagues\, share best practices and learn more about what other programs are doing in their communities.
URL:https://mobilehca.org/events-single/q1-florida-regional-coalition-meeting/
LOCATION:Florida Regional Coalition Meeting\, UF Research and Academic Center at Lake Nona\, Rooms 131/132\, 6550 Sanger Road\, Orlando\, FL\, FL\, 32827\, United States
CATEGORIES:Regional Coalition Meetings
ATTACH;FMTTYPE=image/jpeg:https://mobilehca.org/wp-content/uploads/2022/12/board-nominations-min-jpg.webp
END:VEVENT
BEGIN:VEVENT
DTSTART;TZID=America/Chicago:20240118T140000
DTEND;TZID=America/Chicago:20240118T150000
DTSTAMP:20260424T212549
CREATED:20231106T170249Z
LAST-MODIFIED:20231204T213156Z
UID:10000061-1705586400-1705590000@mobilehca.org
SUMMARY:Q1 2024 Evaluation + Impact SIG Meeting
DESCRIPTION:The Evaluation + Impact SIG aims to help mobile health clinics make a greater impact in their community\, strengthen their programs long-term\, and increase awareness about the important role mobile health programs play in the healthcare system. During quarterly SIG meetings\, participants will have opportunities to learn from peers and hear from experts in evaluation and community impact.
URL:https://mobilehca.org/events-single/q1-evaluation-impact-sig-meeting/
LOCATION:Evaluation + Impact SIG Meeting\, Virtual
CATEGORIES:Special Interest Group Meetings
ATTACH;FMTTYPE=image/jpeg:https://mobilehca.org/wp-content/uploads/2022/12/agenda-min-jpg.webp
END:VEVENT
BEGIN:VEVENT
DTSTART;TZID=America/Chicago:20231116T130000
DTEND;TZID=America/Chicago:20231116T140000
DTSTAMP:20260424T212549
CREATED:20230224T203133Z
LAST-MODIFIED:20231010T215041Z
UID:10000035-1700139600-1700143200@mobilehca.org
SUMMARY:Q4 Vision SIG Meeting
DESCRIPTION:The Vision SIG is committed to supporting and empowering mobile vision screening programs through fostering collaboration\, innovation\, and education. This SIG strives to share its members’ expertise in order to create a community to inform and inspire programs by helping maximize the essential vision health services they provide. The Mobile Healthcare Association Vision SIG will meet virtually quarterly to discuss emerging topics.
URL:https://mobilehca.org/events-single/q4-vision-sig-meeting-2/
LOCATION:Vision SIG Meeting\, Virtual
CATEGORIES:Special Interest Group Meetings
ATTACH;FMTTYPE=image/png:https://mobilehca.org/wp-content/uploads/2022/12/SIGBanner.png
END:VEVENT
BEGIN:VEVENT
DTSTART;TZID=America/New_York:20231114T140000
DTEND;TZID=America/New_York:20231114T150000
DTSTAMP:20260424T212549
CREATED:20230224T200816Z
LAST-MODIFIED:20231011T154627Z
UID:10000034-1699970400-1699974000@mobilehca.org
SUMMARY:Q4 Mammography Sig meeting
DESCRIPTION:The Mammography SIG is made up of a diverse group of mobile healthcare programs coming together to discuss relevant topics such as best practices\, logistics\, and data comparisons related to mammography. The Mobile Healthcare Association Mammography SIG will meet virtually quarterly to share how mobile mammography programs are providing services and ways to reach women unable to receive regular screenings.
URL:https://mobilehca.org/events-single/q4-mammography-sig-meeting/
CATEGORIES:Special Interest Group Meetings
ATTACH;FMTTYPE=image/jpeg:https://mobilehca.org/wp-content/uploads/2022/12/mammography-image-desktop-jpg.webp
END:VEVENT
BEGIN:VEVENT
DTSTART;TZID=America/New_York:20231101T140000
DTEND;TZID=America/New_York:20231101T150000
DTSTAMP:20260424T212549
CREATED:20230224T172230Z
LAST-MODIFIED:20231010T205210Z
UID:10000032-1698847200-1698850800@mobilehca.org
SUMMARY:Q4 Pediatrics SIG
DESCRIPTION:The Pediatrics SIG provides a forum to discuss and share ideas for those dedicated to promoting the health and well-being of children and adolescents through mobile health. Pediatrics mobile programs provide health services to children whose families have access to care barriers. The Mobile Healthcare Association Pediatrics SIG will meet virtually quarterly to explore strategies for connecting children to a primary care medical home and other needed resources.
URL:https://mobilehca.org/events-single/q4-pediatrics-sig-meeting-2023/
LOCATION:Virtual Event\, Virtual\, AK
CATEGORIES:Special Interest Group Meetings
ATTACH;FMTTYPE=image/png:https://mobilehca.org/wp-content/uploads/2022/12/SIGBanner.png
END:VEVENT
BEGIN:VEVENT
DTSTART;TZID=America/New_York:20231026T140000
DTEND;TZID=America/New_York:20231026T150000
DTSTAMP:20260424T212549
CREATED:20230224T203900Z
LAST-MODIFIED:20231011T153641Z
UID:10000037-1698328800-1698332400@mobilehca.org
SUMMARY:Q4 Evaluation + Impact SIG Meeting
DESCRIPTION:The Evaluation + Impact SIG aims to help mobile health clinics make a greater impact in their community\, strengthen their programs long-term\, and increase awareness about the important role mobile health programs play in the healthcare system. During quarterly SIG meetings\, participants will have opportunities to learn from peers and hear from experts in evaluation and community impact.
URL:https://mobilehca.org/events-single/q4-evaluation-impact-sig-meeting/
LOCATION:Evaluation + Impact SIG Meeting\, Virtual
CATEGORIES:Special Interest Group Meetings
ATTACH;FMTTYPE=image/png:https://mobilehca.org/wp-content/uploads/2022/12/SIGBanner.png
END:VEVENT
BEGIN:VEVENT
DTSTART;TZID=America/Chicago:20231020T130000
DTEND;TZID=America/Chicago:20231020T140000
DTSTAMP:20260424T212549
CREATED:20230224T205654Z
LAST-MODIFIED:20231010T214406Z
UID:10000039-1697806800-1697810400@mobilehca.org
SUMMARY:Q4 Sexual & Reproductive Health SIG meeting
DESCRIPTION:The Sexual & Reproductive Health SIG is made up of a diverse group of mobile healthcare programs offering these services in a variety of ways! This SIG seeks to be a support system for one another and for any programs interested in improving access to SRH services on their mobile unit. The Mobile Healthcare Association Sexual & Reproductive Health SIG will meet virtually quarterly to share best practices in the hopes of making high-quality SRH services more accessible to all.
URL:https://mobilehca.org/events-single/q4-sexual-reproductive-health-sig-meeting/
LOCATION:Sexual and Reproductive Health SIG Meeting\, Virtual\, United States
CATEGORIES:Special Interest Group Meetings
ATTACH;FMTTYPE=image/png:https://mobilehca.org/wp-content/uploads/2022/12/SIGBanner.png
END:VEVENT
BEGIN:VEVENT
DTSTART;TZID=America/Chicago:20231017T130000
DTEND;TZID=America/Chicago:20231017T140000
DTSTAMP:20260424T212549
CREATED:20231002T163440Z
LAST-MODIFIED:20231003T190447Z
UID:10000052-1697547600-1697551200@mobilehca.org
SUMMARY:Beyond the Data: Assessing Community Needs Through Engagement
DESCRIPTION:Beyond the Data: Assessing Community Needs Through Engagement\n\nTuesday\, October 17\, 2023\n2:00PM – 3:00PM ET / 11:00AM – 12:00PM PT\nThe people in your community are the best source for information to help design\, implement\, and evaluate your mobile healthcare program. Not only are the numbers and statistics important in informing your work but the stories and experiences of community members are just as important. \nIn this free\, one-hour webinar\, participants will identify strategies for connecting with their community to understand their needs\, leverage community assets\, and evaluate the impact of mobile healthcare programs. We will discuss: \n\n\nDifferent approaches to identify needs.\nMethods for identifying and leveraging community assets.\nBenefits and methods for program evaluation.\nPractical approaches to engaging the people you serve as collaborators and advisors.\n\nSpeakers:\nJennifer McKeever\nFounder and Managing Director\nWE Public Health \nJoyee Washington\nJoyee Washington Consulting\nThe Public Health Joy Podcast \nClick here for speaker bios. 
URL:https://mobilehca.org/events-single/beyond-the-data-assessing-community-needs-through-engagement/
CATEGORIES:Webinars
ATTACH;FMTTYPE=image/png:https://mobilehca.org/wp-content/uploads/2023/03/new-website.png
END:VEVENT
BEGIN:VEVENT
DTSTART;TZID=America/Chicago:20231004T133000
DTEND;TZID=America/Chicago:20231004T140000
DTSTAMP:20260424T212549
CREATED:20230927T214807Z
LAST-MODIFIED:20231002T162941Z
UID:10000051-1696426200-1696428000@mobilehca.org
SUMMARY:Strengthening & Sustaining Mobile Healthcare Grant Program
DESCRIPTION:
URL:https://mobilehca.org/events-single/strengthening-sustaining-mobile-healthcare-grant-program/
CATEGORIES:Webinars
ATTACH;FMTTYPE=image/png:https://mobilehca.org/wp-content/uploads/2023/09/MHA_grant_program_mark-e1695998056226.png
END:VEVENT
BEGIN:VEVENT
DTSTART;VALUE=DATE:20230909
DTEND;VALUE=DATE:20230913
DTSTAMP:20260424T212549
CREATED:20230502T162910Z
LAST-MODIFIED:20230502T163729Z
UID:10000048-1694217600-1694563199@mobilehca.org
SUMMARY:The 19th Annual Mobile Health Clinics Conference
DESCRIPTION:Over the years\, the annual conference has become the go-to resource for those seeking to further their knowledge and share their experiences with other mobile programs from diverse disciplines within the mobile healthcare field. Whether you are operating or launching a mobile healthcare program\, you will be able to learn from top professionals\, connect with like-minded colleagues\, and share best practices and experiences.
URL:https://mobilehca.org/events-single/the-19th-annual-mobile-health-clinics-conference/
CATEGORIES:Annual Conference
ATTACH;FMTTYPE=image/jpeg:https://mobilehca.org/wp-content/uploads/2022/12/events-image-min-jpg.webp
END:VEVENT
BEGIN:VEVENT
DTSTART;TZID=America/Chicago:20230623T100000
DTEND;TZID=America/Chicago:20230623T140000
DTSTAMP:20260424T212549
CREATED:20230401T162241Z
LAST-MODIFIED:20230404T193113Z
UID:10000046-1687514400-1687528800@mobilehca.org
SUMMARY:Q3 Illinois Coalition Meeting
DESCRIPTION:Illinois Regional Coalition meets quarterly to network with their mobile healthcare colleagues\, share best practices and learn more about what other programs are doing in their communities.
URL:https://mobilehca.org/events-single/q3-illinois-coalition-meeting/
CATEGORIES:Regional Coalition Meetings
ATTACH;FMTTYPE=image/png:https://mobilehca.org/wp-content/uploads/2023/02/CoalitionBanner.png
END:VEVENT
BEGIN:VEVENT
DTSTART;TZID=America/Chicago:20230613T140000
DTEND;TZID=America/Chicago:20230613T150000
DTSTAMP:20260424T212549
CREATED:20230517T203608Z
LAST-MODIFIED:20230517T204216Z
UID:10000049-1686664800-1686668400@mobilehca.org
SUMMARY:Finding Funding - Prospect Research to Uncover Foundation and Government Grants
DESCRIPTION:
URL:https://mobilehca.org/events-single/finding-funding-prospect-research-to-uncover-foundation-and-government-grants/
LOCATION:Virtual Event\, Virtual\, AK
CATEGORIES:Webinars
ATTACH;FMTTYPE=image/png:https://mobilehca.org/wp-content/uploads/2023/03/new-website.png
END:VEVENT
BEGIN:VEVENT
DTSTART;TZID=America/New_York:20230519T130000
DTEND;TZID=America/New_York:20230519T140000
DTSTAMP:20260424T212549
CREATED:20230202T121545Z
LAST-MODIFIED:20231009T182658Z
UID:10000008-1684501200-1684504800@mobilehca.org
SUMMARY:Q2 Sexual and Reproductive Health SIG Meeting
DESCRIPTION:
URL:https://mobilehca.org/events-single/sexual-and-reproductive-health-sig-meeting/
LOCATION:Sexual and Reproductive Health SIG Meeting\, Virtual\, United States
CATEGORIES:Special Interest Group Meetings
ATTACH;FMTTYPE=image/png:https://mobilehca.org/wp-content/uploads/2022/12/SIGBanner.png
END:VEVENT
BEGIN:VEVENT
DTSTART;TZID=America/Chicago:20230511T120000
DTEND;TZID=America/Chicago:20230511T150000
DTSTAMP:20260424T212549
CREATED:20230509T160208Z
LAST-MODIFIED:20230509T160216Z
UID:10000005-1683806400-1683817200@mobilehca.org
SUMMARY:2023 Spring Intensive Training Course
DESCRIPTION:A Two-Day Virtual Session \nPart 1: Thursday\, May 4\, 2023\n12:00PM – 3:00PM ET \nPart 2: Thursday\, May 11\, 2023\n12:00PM – 3:00PM ET \nTaught by mobile healthcare experts\, this course will include the following: \n\nAn overview of topics to consider when starting a mobile healthcare program.\nA forum for interactive discussions about operational program successes and difficulties.\nAccess to resources and network contacts to ensure program and staff success.\nAccess to the Mobile Healthcare Program Start-Up Guide\n\nFor questions and assistance regarding the 2023 Spring Virtual Intensive Training Course\, email info@mobilehca.org.
URL:https://mobilehca.org/events-single/2023-spring-intensive-training-course-3/
LOCATION:Virtual Event\, Virtual\, AK
CATEGORIES:Intensive Training Courses
ATTACH;FMTTYPE=image/jpeg:https://mobilehca.org/wp-content/uploads/2022/12/starting-a-clinic-image-jpg.webp
END:VEVENT
BEGIN:VEVENT
DTSTART;TZID=America/New_York:20230509T140000
DTEND;TZID=America/New_York:20230509T150000
DTSTAMP:20260424T212549
CREATED:20230206T122330Z
LAST-MODIFIED:20230401T003940Z
UID:10000021-1683640800-1683644400@mobilehca.org
SUMMARY:Q2 Mammography SIG Meeting
DESCRIPTION:Mammography SIG meets quarterly to provide educational content\, a program spotlight and networking opportunities. Whether you are from a new or established program\, there is always something to learn and apply to your mobile program. \n 
URL:https://mobilehca.org/events-single/mammography-sig-meeting/
LOCATION:Mammography SIG Meeting\, Virtual
CATEGORIES:Special Interest Group Meetings
ATTACH;FMTTYPE=image/png:https://mobilehca.org/wp-content/uploads/2022/12/SIGBanner.png
END:VEVENT
BEGIN:VEVENT
DTSTART;TZID=America/New_York:20230505T100000
DTEND;TZID=America/New_York:20230505T140000
DTSTAMP:20260424T212549
CREATED:20230206T122118Z
LAST-MODIFIED:20230401T003636Z
UID:10000020-1683280800-1683295200@mobilehca.org
SUMMARY:Q2 New England Regional Coalition Meeting
DESCRIPTION:New England Regional Coalition meets annually to network with their mobile healthcare colleagues\, share best practices and learn more about what other programs are doing in their communities.
URL:https://mobilehca.org/events-single/new-england-regional-coalition-meeting/
LOCATION:New England Regional Coalition Meeting\, Countway Library 695 Huntington Avenue Boston\, MA 02115\, United States
CATEGORIES:Regional Coalition Meetings
ATTACH;FMTTYPE=image/png:https://mobilehca.org/wp-content/uploads/2023/02/CoalitionBanner.png
END:VEVENT
BEGIN:VEVENT
DTSTART;TZID=America/Chicago:20230504T120000
DTEND;TZID=America/Chicago:20230504T150000
DTSTAMP:20260424T212549
CREATED:20230131T062340Z
LAST-MODIFIED:20230509T160054Z
UID:10000004-1683201600-1683212400@mobilehca.org
SUMMARY:2023 Spring Intensive Training Course
DESCRIPTION:A Two-Day Virtual Session \nPart 1: Thursday\, May 4\, 2023\n12:00PM – 3:00PM ET \nPart 2: Thursday\, May 11\, 2023\n12:00PM – 3:00PM ET \nTaught by mobile healthcare experts\, this course will include the following: \n\nAn overview of topics to consider when starting a mobile healthcare program.\nA forum for interactive discussions about operational program successes and difficulties.\nAccess to resources and network contacts to ensure program and staff success.\nAccess to the Mobile Healthcare Program Start-Up Guide\n\nFor questions and assistance regarding the 2023 Spring Virtual Intensive Training Course\, email info@mobilehca.org.
URL:https://mobilehca.org/events-single/2023-spring-intensive-training-course/2023-05-04/
LOCATION:Virtual Event\, Virtual\, AK
CATEGORIES:Intensive Training Courses
ATTACH;FMTTYPE=image/jpeg:https://mobilehca.org/wp-content/uploads/2022/12/starting-a-clinic-image-jpg.webp
END:VEVENT
BEGIN:VEVENT
DTSTART;TZID=America/Chicago:20230428T100000
DTEND;TZID=America/Chicago:20230428T140000
DTSTAMP:20260424T212549
CREATED:20230206T121340Z
LAST-MODIFIED:20230331T173649Z
UID:10000018-1682676000-1682690400@mobilehca.org
SUMMARY:Q2 Illinois Regional Coalition Meeting
DESCRIPTION:Illinois Regional Coalition meets quarterly to network with their mobile healthcare colleagues\, share best practices and learn more about what other programs are doing in their communities
URL:https://mobilehca.org/events-single/illinois-regional-coalition-meeting/
LOCATION:Illinois Regional Coalition Meeting\, Ann & Robert H. Lurie Children’s Hospital of Chicago 225 E. Chicago Ave. Chicago\, IL 60611\, Chicago\, IL\, United States
CATEGORIES:Regional Coalition Meetings
ATTACH;FMTTYPE=image/png:https://mobilehca.org/wp-content/uploads/2023/02/CoalitionBanner.png
END:VEVENT
BEGIN:VEVENT
DTSTART;TZID=America/New_York:20230428T093000
DTEND;TZID=America/New_York:20230428T140000
DTSTAMP:20260424T212549
CREATED:20230206T121758Z
LAST-MODIFIED:20230401T002925Z
UID:10000019-1682674200-1682690400@mobilehca.org
SUMMARY:Q2 Missouri Regional Coalition Meeting
DESCRIPTION:Missouri Regional Coalition meets annually to network with their mobile healthcare colleagues\, share best practices and learn more about what other programs are doing in their communities.
URL:https://mobilehca.org/events-single/missouri-regional-coalition-meeting/
LOCATION:Missouri Regional Coalition Meeting\, BJC at The \, Conference Rooms 101 & 102\, 4249 Clayton Ave\, St. Louis\, MO\, 63112\, United States
CATEGORIES:Regional Coalition Meetings
ATTACH;FMTTYPE=image/png:https://mobilehca.org/wp-content/uploads/2023/02/CoalitionBanner.png
END:VEVENT
BEGIN:VEVENT
DTSTART;TZID=America/Chicago:20230427T130000
DTEND;TZID=America/Chicago:20230427T140000
DTSTAMP:20260424T212549
CREATED:20230306T203316Z
LAST-MODIFIED:20230306T205739Z
UID:10000041-1682600400-1682604000@mobilehca.org
SUMMARY:Q2 Vision SIG Meeting
DESCRIPTION:
URL:https://mobilehca.org/events-single/q2-vision-sig-meeting/
ATTACH;FMTTYPE=image/png:https://mobilehca.org/wp-content/uploads/2022/12/SIGBanner.png
END:VEVENT
END:VCALENDAR