BEGIN:VCALENDAR
VERSION:2.0
PRODID:-//Mobile Healthcare Association - ECPv6.15.3//NONSGML v1.0//EN
CALSCALE:GREGORIAN
METHOD:PUBLISH
X-ORIGINAL-URL:https://mobilehca.org
X-WR-CALDESC:Events for Mobile Healthcare Association
REFRESH-INTERVAL;VALUE=DURATION:PT1H
X-Robots-Tag:noindex
X-PUBLISHED-TTL:PT1H
BEGIN:VTIMEZONE
TZID:America/Chicago
BEGIN:DAYLIGHT
TZOFFSETFROM:-0600
TZOFFSETTO:-0500
TZNAME:CDT
DTSTART:20240310T080000
END:DAYLIGHT
BEGIN:STANDARD
TZOFFSETFROM:-0500
TZOFFSETTO:-0600
TZNAME:CST
DTSTART:20241103T070000
END:STANDARD
BEGIN:DAYLIGHT
TZOFFSETFROM:-0600
TZOFFSETTO:-0500
TZNAME:CDT
DTSTART:20250309T080000
END:DAYLIGHT
BEGIN:STANDARD
TZOFFSETFROM:-0500
TZOFFSETTO:-0600
TZNAME:CST
DTSTART:20251102T070000
END:STANDARD
END:VTIMEZONE
BEGIN:VTIMEZONE
TZID:America/Denver
BEGIN:DAYLIGHT
TZOFFSETFROM:-0700
TZOFFSETTO:-0600
TZNAME:MDT
DTSTART:20240310T090000
END:DAYLIGHT
BEGIN:STANDARD
TZOFFSETFROM:-0600
TZOFFSETTO:-0700
TZNAME:MST
DTSTART:20241103T080000
END:STANDARD
END:VTIMEZONE
BEGIN:VTIMEZONE
TZID:America/Vancouver
BEGIN:DAYLIGHT
TZOFFSETFROM:-0800
TZOFFSETTO:-0700
TZNAME:PDT
DTSTART:20240310T100000
END:DAYLIGHT
BEGIN:STANDARD
TZOFFSETFROM:-0700
TZOFFSETTO:-0800
TZNAME:PST
DTSTART:20241103T090000
END:STANDARD
BEGIN:DAYLIGHT
TZOFFSETFROM:-0800
TZOFFSETTO:-0700
TZNAME:PDT
DTSTART:20250309T100000
END:DAYLIGHT
BEGIN:STANDARD
TZOFFSETFROM:-0700
TZOFFSETTO:-0800
TZNAME:PST
DTSTART:20251102T090000
END:STANDARD
END:VTIMEZONE
BEGIN:VEVENT
DTSTART;TZID=America/Chicago:20240510T130000
DTEND;TZID=America/Chicago:20240510T140000
DTSTAMP:20260425T063253
CREATED:20231106T162952Z
LAST-MODIFIED:20240424T142057Z
UID:10000054-1715346000-1715349600@mobilehca.org
SUMMARY:Q2 2024 Sexual & Reproductive Health SIG meeting
DESCRIPTION:The Sexual & Reproductive Health SIG is made up of a diverse group of mobile healthcare programs offering these services in a variety of ways! This SIG seeks to be a support system for one another and for any programs interested in improving access to SRH services on their mobile unit. The Mobile Healthcare Association Sexual & Reproductive Health SIG will meet virtually quarterly to share best practices in the hopes of making high-quality SRH services more accessible to all.
URL:https://mobilehca.org/events-single/q2-sexual-reproductive-health-sig-meeting/
LOCATION:Sexual and Reproductive Health SIG Meeting\, Virtual\, United States
CATEGORIES:Special Interest Group Meetings
ATTACH;FMTTYPE=image/png:https://mobilehca.org/wp-content/uploads/2023/02/CoalitionBanner.png
END:VEVENT
BEGIN:VEVENT
DTSTART;TZID=America/Denver:20240514T140000
DTEND;TZID=America/Denver:20240514T150000
DTSTAMP:20260425T063253
CREATED:20231106T180118Z
LAST-MODIFIED:20231204T213701Z
UID:10000075-1715695200-1715698800@mobilehca.org
SUMMARY:Q2 2024 Native American Coalition Meeting
DESCRIPTION:This Coalition is a nationwide network of like-minded individuals working toward the improvement of health and increased access to healthcare for Native American communities.
URL:https://mobilehca.org/events-single/q2-native-american-coalition-meeting/
LOCATION:Native American Coalition
CATEGORIES:Regional Coalition Meetings
ATTACH;FMTTYPE=image/png:https://mobilehca.org/wp-content/uploads/2023/02/CoalitionBanner.png
END:VEVENT
BEGIN:VEVENT
DTSTART;TZID=America/Chicago:20240523T130000
DTEND;TZID=America/Chicago:20240523T140000
DTSTAMP:20260425T063253
CREATED:20231106T172059Z
LAST-MODIFIED:20240424T142342Z
UID:10000066-1716469200-1716472800@mobilehca.org
SUMMARY:Q2 2024 Vision SIG Meeting
DESCRIPTION:The Vision SIG is committed to supporting and empowering mobile vision screening programs through fostering collaboration\, innovation\, and education. This SIG strives to share its members’ expertise in order to create a community to inform and inspire programs by helping maximize the essential vision health services they provide. The Mobile Healthcare Association Vision SIG will meet virtually quarterly to discuss emerging topics.
URL:https://mobilehca.org/events-single/q2-vision-sig-meeting-2/
LOCATION:Vision SIG Meeting\, Virtual
CATEGORIES:Special Interest Group Meetings
ATTACH;FMTTYPE=image/png:https://mobilehca.org/wp-content/uploads/2023/03/healthpolicy.png
END:VEVENT
BEGIN:VEVENT
DTSTART;TZID=America/Vancouver:20240620T093000
DTEND;TZID=America/Vancouver:20240620T143000
DTSTAMP:20260425T063253
CREATED:20240105T184912Z
LAST-MODIFIED:20240105T185940Z
UID:10000097-1718875800-1718893800@mobilehca.org
SUMMARY:Q2 2024 Southern California Coalition Meeting
DESCRIPTION:Southern California meets bi-annually to network with their mobile healthcare colleagues\, share best practices and learn more about what other programs are doing in their communities.
URL:https://mobilehca.org/events-single/q2-2024-southern-california-coalition-meeting-2/
LOCATION:Q2 Southern California Regional Coalition Meeting\, The California Endowment 1000 N. Alameda St Los Angeles\, CA 90012\, CA
CATEGORIES:Regional Coalition Meetings
ATTACH;FMTTYPE=image/jpeg:https://mobilehca.org/wp-content/uploads/2022/12/agenda-min-jpg.webp
END:VEVENT
BEGIN:VEVENT
DTSTART;TZID=America/Chicago:20240620T130000
DTEND;TZID=America/Chicago:20240620T150000
DTSTAMP:20260425T063253
CREATED:20240418T154958Z
LAST-MODIFIED:20240507T193434Z
UID:10000099-1718888400-1718895600@mobilehca.org
SUMMARY:Q2 New York Coalition Meeting
DESCRIPTION:
URL:https://mobilehca.org/events-single/q2-new-york-coalition-meeting/
LOCATION:New York City Coalition Meeting\, Ryan Health 110 West 97th Street (between Columbus and Amsterdam Avenue)\, New York\, NY\, 10021\, United States
CATEGORIES:Regional Coalition Meetings
ATTACH;FMTTYPE=image/jpeg:https://mobilehca.org/wp-content/uploads/2022/12/abstracts-min-jpg.webp
END:VEVENT
BEGIN:VEVENT
DTSTART;TZID=America/Chicago:20240621T100000
DTEND;TZID=America/Chicago:20240621T140000
DTSTAMP:20260425T063253
CREATED:20240418T160358Z
LAST-MODIFIED:20241113T153339Z
UID:10000100-1718964000-1718978400@mobilehca.org
SUMMARY:Q2 2024 Illinois Coalition Meeting
DESCRIPTION:
URL:https://mobilehca.org/events-single/q2-illinois-coalition-meeting/
LOCATION:Illinois Regional Coalition Meeting\, Ann & Robert H. Lurie Children’s Hospital of Chicago 225 E. Chicago Ave. Chicago\, IL 60611\, Chicago\, IL\, United States
CATEGORIES:Regional Coalition Meetings
ATTACH;FMTTYPE=image/jpeg:https://mobilehca.org/wp-content/uploads/2022/12/board-nominations-min-jpg.webp
END:VEVENT
BEGIN:VEVENT
DTSTART;TZID=America/Chicago:20240627T140000
DTEND;TZID=America/Chicago:20240627T150000
DTSTAMP:20260425T063253
CREATED:20240624T182514Z
LAST-MODIFIED:20240624T182737Z
UID:10000101-1719496800-1719500400@mobilehca.org
SUMMARY:Unlocking the Potential of Government Grants
DESCRIPTION:Join us for an exclusive webinar designed to maximize your chances of securing government grant funding! \nThursday\, June 27\, 2024\n2:00 PM – 3:00 PM ET / 11:00 AM – 12:00 PM PT \nThis free\, one-hour webinar is perfect for grant writers\, program directors\, and organization administrators looking to enhance their understanding of the government grant process. You will gain invaluable insights and practical tips on:\n\nCrafting compelling grant applications\nNavigating the complexities of the application process\nBoosting your chances of securing crucial funding with insider tips\n\nWhether you are applying to the Health Resources and Services Administration (HRSA)\, the Substance Abuse and Mental Health Services Administration (SAMHSA)\, the Centers for Disease Control and Prevention (CDC)\, or other funding entities\, this webinar will equip you with the essential tools for success. \nDon’t miss out on this opportunity to elevate your grant application skills and increase your funding potential. Register now to unlock the secrets of successful grant applications!\nSpeaker:\nAlison E. Gray\nPresident\nPear Associates LLC
URL:https://mobilehca.org/events-single/unlocking-the-potential-of-government-grants/
LOCATION:Virtual Event\, Virtual\, AK
CATEGORIES:Webinars
ATTACH;FMTTYPE=image/png:https://mobilehca.org/wp-content/uploads/2023/02/IMG_9141blue5.png
END:VEVENT
BEGIN:VEVENT
DTSTART;TZID=America/Chicago:20240718T140000
DTEND;TZID=America/Chicago:20240718T150000
DTSTAMP:20260425T063253
CREATED:20231106T170821Z
LAST-MODIFIED:20240619T181616Z
UID:10000063-1721311200-1721314800@mobilehca.org
SUMMARY:Q3 2024 Evaluation + Impact SIG Meeting
DESCRIPTION:The Evaluation + Impact SIG aims to help mobile health clinics make a greater impact in their community\, strengthen their programs long-term\, and increase awareness about the important role mobile health programs play in the healthcare system. During quarterly SIG meetings\, participants will have opportunities to learn from peers and hear from experts in evaluation and community impact.
URL:https://mobilehca.org/events-single/q3-evaluation-impact-sig-meeting/
LOCATION:Evaluation + Impact SIG Meeting\, Virtual
CATEGORIES:Special Interest Group Meetings
ATTACH;FMTTYPE=image/jpeg:https://mobilehca.org/wp-content/uploads/2022/12/why-attend-image-min-jpg.webp
END:VEVENT
BEGIN:VEVENT
DTSTART;VALUE=DATE:20240907
DTEND;VALUE=DATE:20240911
DTSTAMP:20260425T063253
CREATED:20230920T153815Z
LAST-MODIFIED:20230920T154020Z
UID:10000050-1725667200-1726012799@mobilehca.org
SUMMARY:The 20th Annual Mobile Health Clinics Conference
DESCRIPTION:Over the years\, the annual conference has become the go-to resource for those seeking to further their knowledge and share their experiences with other mobile programs from diverse disciplines within the mobile healthcare field. Whether you are operating or launching a mobile healthcare program\, you will be able to learn from top professionals\, connect with like-minded colleagues\, and share best practices and experiences.
URL:https://mobilehca.org/events-single/the-20th-annual-mobile-health-clinics-conference/
LOCATION:Forth Worth Convention Center\, 1201 Throckmorton Street\, Fort Worth\, TX\, 76102
CATEGORIES:Annual Conference
ATTACH;FMTTYPE=image/jpeg:https://mobilehca.org/wp-content/uploads/2022/12/events-image-min-jpg.webp
END:VEVENT
BEGIN:VEVENT
DTSTART;VALUE=DATE:20240908
DTEND;VALUE=DATE:20240909
DTSTAMP:20260425T063253
CREATED:20231106T180347Z
LAST-MODIFIED:20231204T213642Z
UID:10000076-1725753600-1725839999@mobilehca.org
SUMMARY:Q3 2024 Native American Coalition Meeting
DESCRIPTION:This Coalition is a nationwide network of like-minded individuals working toward the improvement of health and increased access to healthcare for Native American communities.
URL:https://mobilehca.org/events-single/q3-native-american-coalition-meeting/
LOCATION:Native American Coalition
CATEGORIES:Annual Conference,Regional Coalition Meetings
ATTACH;FMTTYPE=image/png:https://mobilehca.org/wp-content/uploads/2023/02/CoalitionBanner.png
END:VEVENT
BEGIN:VEVENT
DTSTART;VALUE=DATE:20240909
DTEND;VALUE=DATE:20240910
DTSTAMP:20260425T063253
CREATED:20231106T172544Z
LAST-MODIFIED:20231106T173203Z
UID:10000068-1725840000-1725926399@mobilehca.org
SUMMARY:2024 CONFERENCE Vision SIG Meeting
DESCRIPTION:The Vision SIG is committed to supporting and empowering mobile vision screening programs through fostering collaboration\, innovation\, and education. This SIG strives to share its members’ expertise in order to create a community to inform and inspire programs by helping maximize the essential vision health services they provide. The Mobile Healthcare Association Vision SIG will meet virtually quarterly to discuss emerging topics.
URL:https://mobilehca.org/events-single/2024-conference-vision-sig-meeting/
LOCATION:Vision SIG Meeting\, Virtual
CATEGORIES:Annual Conference,Special Interest Group Meetings
ATTACH;FMTTYPE=image/jpeg:https://mobilehca.org/wp-content/uploads/2022/12/board-nominations-min-jpg.webp
END:VEVENT
BEGIN:VEVENT
DTSTART;VALUE=DATE:20240909
DTEND;VALUE=DATE:20240910
DTSTAMP:20260425T063253
CREATED:20231106T174427Z
LAST-MODIFIED:20231106T174427Z
UID:10000072-1725840000-1725926399@mobilehca.org
SUMMARY:2024 Mobile Health Clinics CONFERENCE Mammography SIG Meeting
DESCRIPTION:The Mammography SIG is made up of a diverse group of mobile healthcare programs coming together to discuss relevant topics such as best practices\, logistics\, and data comparisons related to mammography. The Mobile Healthcare Association Mammography SIG will meet virtually quarterly to share how mobile mammography programs are providing services and ways to reach women unable to receive regular screenings.
URL:https://mobilehca.org/events-single/2024-mobile-health-clinics-conference-mammography-sig-meeting/
LOCATION:Mammography SIG Meeting\, Virtual
CATEGORIES:Annual Conference,Special Interest Group Meetings
ATTACH;FMTTYPE=image/jpeg:https://mobilehca.org/wp-content/uploads/2022/12/mammography-image-desktop-jpg.webp
END:VEVENT
BEGIN:VEVENT
DTSTART;TZID=America/Chicago:20240909T130000
DTEND;TZID=America/Chicago:20240909T140000
DTSTAMP:20260425T063253
CREATED:20231106T163457Z
LAST-MODIFIED:20231204T214030Z
UID:10000055-1725886800-1725890400@mobilehca.org
SUMMARY:Q3 2024 Sexual & Reproductive Health SIG meeting
DESCRIPTION:The Sexual & Reproductive Health SIG is made up of a diverse group of mobile healthcare programs offering these services in a variety of ways! This SIG seeks to be a support system for one another and for any programs interested in improving access to SRH services on their mobile unit. The The Sexual & Reproductive Health SIG is made up of a diverse group of mobile healthcare programs offering these services in a variety of ways! This SIG seeks to be a support system for one another and for any programs interested in improving access to SRH services on their mobile unit. The Mobile Healthcare Association Sexual & Reproductive Health SIG will meet virtually quarterly to share best practices in the hopes of making high-quality SRH services more accessible to all.
URL:https://mobilehca.org/events-single/q3-sexual-reproductive-health-sig-meeting/
LOCATION:Sexual and Reproductive Health SIG Meeting\, Virtual\, United States
CATEGORIES:Special Interest Group Meetings
ATTACH;FMTTYPE=image/png:https://mobilehca.org/wp-content/uploads/2023/02/IMG_9141blue5.png
END:VEVENT
BEGIN:VEVENT
DTSTART;TZID=America/Chicago:20240909T140000
DTEND;TZID=America/Chicago:20240909T150000
DTSTAMP:20260425T063253
CREATED:20231106T165436Z
LAST-MODIFIED:20231204T213938Z
UID:10000059-1725890400-1725894000@mobilehca.org
SUMMARY:Q3 2024 Pediatrics SIG meeting
DESCRIPTION:The Pediatrics SIG provides a forum to discuss and share ideas for those dedicated to promoting the health and well-being of children and adolescents through mobile health. Pediatrics mobile programs provide health services to children whose families have access to care barriers. The Mobile Healthcare Association Pediatrics SIG will meet virtually quarterly to explore strategies for connecting children to a primary care medical home and other needed resources.
URL:https://mobilehca.org/events-single/q3-pediatrics-sig-meeting/
LOCATION:Pediatrics SIG Meeting
CATEGORIES:Special Interest Group Meetings
ATTACH;FMTTYPE=image/png:https://mobilehca.org/wp-content/uploads/2023/02/IMG_FAQ.png
END:VEVENT
BEGIN:VEVENT
DTSTART;TZID=America/Chicago:20241002T143000
DTEND;TZID=America/Chicago:20241002T150000
DTSTAMP:20260425T063253
CREATED:20240925T195535Z
LAST-MODIFIED:20240925T205950Z
UID:10000102-1727879400-1727881200@mobilehca.org
SUMMARY:Strengthening & Sustainability Grant Program Q&A
DESCRIPTION:Strengthening & Sustainability Grant Program Q&A\, Wednesday\, October 2\, 2024 at 2:30 PM ET/ 11:30 AM PT \nJoin us for a 30-minute Q&A session to get your questions answered and learn more about the grant submission process. A Zoom link will be sent to all registrants.
URL:https://mobilehca.org/events-single/strengthening-sustainability-grant-program-qa/
LOCATION:Virtual Event\, Virtual\, AK
CATEGORIES:Webinars
ATTACH;FMTTYPE=image/png:https://mobilehca.org/wp-content/uploads/2023/03/healthpolicy.png
END:VEVENT
BEGIN:VEVENT
DTSTART;TZID=America/Chicago:20241024T140000
DTEND;TZID=America/Chicago:20241024T150000
DTSTAMP:20260425T063253
CREATED:20231106T171204Z
LAST-MODIFIED:20241017T205356Z
UID:10000064-1729778400-1729782000@mobilehca.org
SUMMARY:Q4 2024 Evaluation + Impact SIG Meeting
DESCRIPTION:Join us for this Q4 special interest group meeting about using logic models for program planning and evaluation. Learn how to visually map your program’s activities\, outcomes\, and impact to better measure and communicate your success. This session will guide you through the basics of: creating a logic model and showing how it can improve decision-making\, demonstrate value to stakeholders and funders\, and drive continuous improvement in your mobile clinic’s services. This meeting is ideal for beginners and those looking to refine their evaluation skills. \nThe Evaluation + Impact SIG aims to help mobile health clinics make a greater impact in their community\, strengthen their programs long-term\, and increase awareness about the important role mobile health programs play in the healthcare system. During quarterly SIG meetings\, participants will have opportunities to learn from peers and hear from experts in evaluation and community impact.
URL:https://mobilehca.org/events-single/q4-evaluation-impact-sig-meeting-2/
LOCATION:Evaluation + Impact SIG Meeting\, Virtual
CATEGORIES:Special Interest Group Meetings
ATTACH;FMTTYPE=image/jpeg:https://mobilehca.org/wp-content/uploads/2022/12/why-attend-image-min-jpg.webp
END:VEVENT
BEGIN:VEVENT
DTSTART;TZID=America/Chicago:20241106T140000
DTEND;TZID=America/Chicago:20241106T150000
DTSTAMP:20260425T063253
CREATED:20231106T165653Z
LAST-MODIFIED:20241009T145650Z
UID:10000060-1730901600-1730905200@mobilehca.org
SUMMARY:Q4 2024 Pediatrics SIG meeting
DESCRIPTION:The Pediatrics SIG provides a forum to discuss and share ideas for those dedicated to promoting the health and well-being of children and adolescents through mobile health. Pediatrics mobile programs provide health services to children whose families have access to care barriers. The Mobile Healthcare Association Pediatrics SIG will meet virtually quarterly to explore strategies for connecting children to a primary care medical home and other needed resources.
URL:https://mobilehca.org/events-single/q4-pediatrics-sig-meeting/
LOCATION:Pediatrics SIG Meeting
CATEGORIES:Special Interest Group Meetings
ATTACH;FMTTYPE=image/png:https://mobilehca.org/wp-content/uploads/2023/02/IMG_9141blue.png
END:VEVENT
BEGIN:VEVENT
DTSTART;TZID=America/Chicago:20241113T080000
DTEND;TZID=America/Chicago:20241113T170000
DTSTAMP:20260425T063253
CREATED:20241113T143711Z
LAST-MODIFIED:20241113T150308Z
UID:10000129-1731484800-1731517200@mobilehca.org
SUMMARY:Q1 2025 Illinois Coalition Meeting
DESCRIPTION:
URL:https://mobilehca.org/events-single/2025-illinois-coalition-meeting/
LOCATION:Illinois Regional Coalition Meeting\, Ann & Robert H. Lurie Children’s Hospital of Chicago 225 E. Chicago Ave. Chicago\, IL 60611\, Chicago\, IL\, United States
CATEGORIES:Regional Coalition Meetings
ATTACH;FMTTYPE=image/png:https://mobilehca.org/wp-content/uploads/2022/12/illinois-image-desktop.png
END:VEVENT
BEGIN:VEVENT
DTSTART;TZID=America/Chicago:20241114T140000
DTEND;TZID=America/Chicago:20241114T150000
DTSTAMP:20260425T063253
CREATED:20241015T171306Z
LAST-MODIFIED:20241015T182645Z
UID:10000104-1731592800-1731596400@mobilehca.org
SUMMARY:Solutions Showcase Webinar Series
DESCRIPTION:  \n\nThursday\, November 14\, 2024 2:00 PM ET/11:00 AM PT \n\nThis FREE\, one-hour webinar highlights the importance of safety in mobile healthcare settings. Participants will learn to identify unique risks\, implement practical mitigation strategies\, and adopt policies that promote a culture of psychological safety for all team members. \n\n\n\nSpeakers\n– Ashley Giritli\, Executive Director\, Caring for Miami\n– David Wywialowski\, Ma and MDiv\, Director of Outreach & Health Ministry\, The Night Ministry
URL:https://mobilehca.org/events-single/solutions-showcase-webinar-series/
CATEGORIES:Webinars
ATTACH;FMTTYPE=image/png:https://mobilehca.org/wp-content/uploads/2023/03/healthpolicy.png
END:VEVENT
BEGIN:VEVENT
DTSTART;TZID=America/Chicago:20241119T140000
DTEND;TZID=America/Chicago:20241119T150000
DTSTAMP:20260425T063253
CREATED:20231106T174910Z
LAST-MODIFIED:20231204T213734Z
UID:10000073-1732024800-1732028400@mobilehca.org
SUMMARY:Q4 2024 Mammography SIG Meeting
DESCRIPTION:The Mammography SIG is made up of a diverse group of mobile healthcare programs coming together to discuss relevant topics such as best practices\, logistics\, and data comparisons related to mammography. The Mobile Healthcare Association Mammography SIG will meet virtually quarterly to share how mobile mammography programs are providing services and ways to reach women unable to receive regular screenings.
URL:https://mobilehca.org/events-single/q4-mammography-sig-meeting-2/
LOCATION:Mammography SIG Meeting\, Virtual
CATEGORIES:Special Interest Group Meetings
ATTACH;FMTTYPE=image/jpeg:https://mobilehca.org/wp-content/uploads/2022/12/mammography-image-desktop-jpg.webp
END:VEVENT
BEGIN:VEVENT
DTSTART;TZID=America/Chicago:20241121T130000
DTEND;TZID=America/Chicago:20241121T140000
DTSTAMP:20260425T063253
CREATED:20231106T173418Z
LAST-MODIFIED:20241007T164532Z
UID:10000069-1732194000-1732197600@mobilehca.org
SUMMARY:Q4 2024 Vision SIG Meeting
DESCRIPTION:The Vision SIG is committed to supporting and empowering mobile vision screening programs through fostering collaboration\, innovation\, and education. This SIG strives to share its members’ expertise in order to create a community to inform and inspire programs by helping maximize the essential vision health services they provide. The Mobile Healthcare Association Vision SIG will meet virtually quarterly to discuss emerging topics.
URL:https://mobilehca.org/events-single/q4-vision-sig-meeting/
LOCATION:Vision SIG Meeting\, Virtual
CATEGORIES:Special Interest Group Meetings
ATTACH;FMTTYPE=image/jpeg:https://mobilehca.org/wp-content/uploads/2022/12/agenda-min-jpg.webp
END:VEVENT
BEGIN:VEVENT
DTSTART;TZID=America/Chicago:20250116T130000
DTEND;TZID=America/Chicago:20250116T140000
DTSTAMP:20260425T063253
CREATED:20241112T202028Z
LAST-MODIFIED:20250107T160802Z
UID:10000121-1737032400-1737036000@mobilehca.org
SUMMARY:Q1 2025 Vision SIG meeting
DESCRIPTION:
URL:https://mobilehca.org/events-single/q1-vision-sig-meeting-2/
LOCATION:Vision SIG Meeting\, Virtual
CATEGORIES:Special Interest Group Meetings
ATTACH;FMTTYPE=image/jpeg:https://mobilehca.org/wp-content/uploads/2022/12/vision-image-desktop-jpg.webp
END:VEVENT
BEGIN:VEVENT
DTSTART;TZID=America/Chicago:20250122T120000
DTEND;TZID=America/Chicago:20250122T123000
DTSTAMP:20260425T063253
CREATED:20250107T195935Z
LAST-MODIFIED:20250107T200514Z
UID:10000147-1737547200-1737549000@mobilehca.org
SUMMARY:Call for Abstracts Q&A Sessions
DESCRIPTION:Call for Speaker Abstracts opens January 14\, 2025. Join us for the Call for Abstracts Q&A session on Wednesday\, January 22\, 12:00 PM – 12:30 PM ET. \nAnnual Conference registration opens on March 14\, 2025.
URL:https://mobilehca.org/events-single/call-for-abstracts-qa-sessions/
LOCATION:Virtual Event\, Virtual\, AK
ATTACH;FMTTYPE=image/jpeg:https://mobilehca.org/wp-content/uploads/2024/10/conference-event-jpg.webp
END:VEVENT
BEGIN:VEVENT
DTSTART;TZID=America/Chicago:20250123T140000
DTEND;TZID=America/Chicago:20250123T150000
DTSTAMP:20260425T063253
CREATED:20241112T200424Z
LAST-MODIFIED:20250109T185413Z
UID:10000113-1737640800-1737644400@mobilehca.org
SUMMARY:Q1 2025 Pediatrics SIG meeting
DESCRIPTION:All meetings are Eastern Standard Time
URL:https://mobilehca.org/events-single/q1-pediatrics-sig-meeting-2/
LOCATION:Pediatrics SIG Meeting
CATEGORIES:Special Interest Group Meetings
ATTACH;FMTTYPE=image/jpeg:https://mobilehca.org/wp-content/uploads/2022/12/Direct-Relief-Sponsor-jpg.webp
END:VEVENT
BEGIN:VEVENT
DTSTART;TZID=America/Chicago:20250124T100000
DTEND;TZID=America/Chicago:20250124T120000
DTSTAMP:20260425T063253
CREATED:20241113T142931Z
LAST-MODIFIED:20250107T160519Z
UID:10000126-1737712800-1737720000@mobilehca.org
SUMMARY:Q1 2025 Florida Coalition Meeting
DESCRIPTION:
URL:https://mobilehca.org/events-single/2025-florida-coalition-meeting/
LOCATION:Virtual Event\, Virtual\, AK
CATEGORIES:Regional Coalition Meetings
ATTACH;FMTTYPE=image/jpeg:https://mobilehca.org/wp-content/uploads/2022/12/florida-image-desktop-jpg.webp
END:VEVENT
BEGIN:VEVENT
DTSTART;TZID=America/Chicago:20250129T130000
DTEND;TZID=America/Chicago:20250129T150000
DTSTAMP:20260425T063253
CREATED:20241113T143142Z
LAST-MODIFIED:20250107T160617Z
UID:10000127-1738155600-1738162800@mobilehca.org
SUMMARY:Q1 2025 New York City Coalition Meeting
DESCRIPTION:
URL:https://mobilehca.org/events-single/2025-new-york-city-coalition-meeting/
LOCATION:New York City Coalition Meeting\, Ryan Health 110 West 97th Street (between Columbus and Amsterdam Avenue)\, New York\, NY\, 10021\, United States
CATEGORIES:Regional Coalition Meetings
ATTACH;FMTTYPE=image/png:https://mobilehca.org/wp-content/uploads/2022/12/nyc-image-desktop.png
END:VEVENT
BEGIN:VEVENT
DTSTART;TZID=America/Vancouver:20250130T173000
DTEND;TZID=America/Vancouver:20250130T200000
DTSTAMP:20260425T063253
CREATED:20241113T143416Z
LAST-MODIFIED:20250129T160333Z
UID:10000128-1738258200-1738267200@mobilehca.org
SUMMARY:Q1 2025 Southern California Coalition Social
DESCRIPTION:
URL:https://mobilehca.org/events-single/2025-southern-california-coalition/
LOCATION:Q2 Southern California Regional Coalition Meeting\, The California Endowment 1000 N. Alameda St Los Angeles\, CA 90012\, CA
CATEGORIES:Regional Coalition Meetings
ATTACH;FMTTYPE=image/png:https://mobilehca.org/wp-content/uploads/2022/12/SoCal-CoalitionPhoto.png
END:VEVENT
BEGIN:VEVENT
DTSTART;TZID=America/Chicago:20250131T100000
DTEND;TZID=America/Chicago:20250131T140000
DTSTAMP:20260425T063253
CREATED:20250114T194433Z
LAST-MODIFIED:20250114T194433Z
UID:10000152-1738317600-1738332000@mobilehca.org
SUMMARY:Q1 Illinois coalition meeting
DESCRIPTION:
URL:https://mobilehca.org/events-single/q1-illinois-coalition-meeting/
CATEGORIES:Regional Coalition Meetings
ATTACH;FMTTYPE=image/jpeg:https://mobilehca.org/wp-content/uploads/2022/12/events-image-min-jpg.webp
END:VEVENT
BEGIN:VEVENT
DTSTART;TZID=America/Chicago:20250204T140000
DTEND;TZID=America/Chicago:20250204T150000
DTSTAMP:20260425T063253
CREATED:20241112T195333Z
LAST-MODIFIED:20250131T164111Z
UID:10000109-1738677600-1738681200@mobilehca.org
SUMMARY:Q1 2025 Mammography SIG meeting
DESCRIPTION:All meetings are Eastern Standard Time
URL:https://mobilehca.org/events-single/q1-mammography-sig-meeting-2/
LOCATION:Mammography SIG Meeting\, Virtual
CATEGORIES:Special Interest Group Meetings
ATTACH;FMTTYPE=image/jpeg:https://mobilehca.org/wp-content/uploads/2022/12/mammography-image-desktop-jpg.webp
END:VEVENT
BEGIN:VEVENT
DTSTART;TZID=America/Chicago:20250206T140000
DTEND;TZID=America/Chicago:20250206T150000
DTSTAMP:20260425T063253
CREATED:20241112T203514Z
LAST-MODIFIED:20241219T223314Z
UID:10000125-1738850400-1738854000@mobilehca.org
SUMMARY:Q1 2025 Evaluation + Impact SIG meeting
DESCRIPTION:Meeting Topic: Survey Design\nby Mollie Williams\, DrPH\, MPH\, Executive Director\, Harvard Medical School’s The Family Van and Mobile Health Map \nUnlock the insights your community holds. Join our upcoming special interest group meeting to learn about survey design and how to craft powerful surveys that uncover needs\, measure impact\, and guide your clinic’s success. Whether you’re looking to improve services\, better understand your community\, or make data-driven decisions\, this meeting will equip you with the tools to design surveys that work.
URL:https://mobilehca.org/events-single/q1-evaluation-impact-sig-meeting-2/
LOCATION:Evaluation + Impact SIG Meeting\, Virtual
CATEGORIES:Special Interest Group Meetings
ATTACH;FMTTYPE=image/jpeg:https://mobilehca.org/wp-content/uploads/2022/12/abstracts-min-jpg.webp
END:VEVENT
END:VCALENDAR