BEGIN:VCALENDAR
VERSION:2.0
PRODID:-//Mobile Healthcare Association - ECPv6.15.3//NONSGML v1.0//EN
CALSCALE:GREGORIAN
METHOD:PUBLISH
X-WR-CALNAME:Mobile Healthcare Association
X-ORIGINAL-URL:https://mobilehca.org
X-WR-CALDESC:Events for Mobile Healthcare Association
REFRESH-INTERVAL;VALUE=DURATION:PT1H
X-Robots-Tag:noindex
X-PUBLISHED-TTL:PT1H
BEGIN:VTIMEZONE
TZID:America/Chicago
BEGIN:DAYLIGHT
TZOFFSETFROM:-0600
TZOFFSETTO:-0500
TZNAME:CDT
DTSTART:20240310T080000
END:DAYLIGHT
BEGIN:STANDARD
TZOFFSETFROM:-0500
TZOFFSETTO:-0600
TZNAME:CST
DTSTART:20241103T070000
END:STANDARD
BEGIN:DAYLIGHT
TZOFFSETFROM:-0600
TZOFFSETTO:-0500
TZNAME:CDT
DTSTART:20250309T080000
END:DAYLIGHT
BEGIN:STANDARD
TZOFFSETFROM:-0500
TZOFFSETTO:-0600
TZNAME:CST
DTSTART:20251102T070000
END:STANDARD
END:VTIMEZONE
BEGIN:VTIMEZONE
TZID:America/Vancouver
BEGIN:DAYLIGHT
TZOFFSETFROM:-0800
TZOFFSETTO:-0700
TZNAME:PDT
DTSTART:20250309T100000
END:DAYLIGHT
BEGIN:STANDARD
TZOFFSETFROM:-0700
TZOFFSETTO:-0800
TZNAME:PST
DTSTART:20251102T090000
END:STANDARD
END:VTIMEZONE
BEGIN:VTIMEZONE
TZID:America/New_York
BEGIN:DAYLIGHT
TZOFFSETFROM:-0500
TZOFFSETTO:-0400
TZNAME:EDT
DTSTART:20250309T070000
END:DAYLIGHT
BEGIN:STANDARD
TZOFFSETFROM:-0400
TZOFFSETTO:-0500
TZNAME:EST
DTSTART:20251102T060000
END:STANDARD
END:VTIMEZONE
BEGIN:VTIMEZONE
TZID:America/Denver
BEGIN:DAYLIGHT
TZOFFSETFROM:-0700
TZOFFSETTO:-0600
TZNAME:MDT
DTSTART:20250309T090000
END:DAYLIGHT
BEGIN:STANDARD
TZOFFSETFROM:-0600
TZOFFSETTO:-0700
TZNAME:MST
DTSTART:20251102T080000
END:STANDARD
END:VTIMEZONE
BEGIN:VEVENT
DTSTART;TZID=America/Chicago:20241106T140000
DTEND;TZID=America/Chicago:20241106T150000
DTSTAMP:20260425T080841
CREATED:20231106T165653Z
LAST-MODIFIED:20241009T145650Z
UID:10000060-1730901600-1730905200@mobilehca.org
SUMMARY:Q4 2024 Pediatrics SIG meeting
DESCRIPTION:The Pediatrics SIG provides a forum to discuss and share ideas for those dedicated to promoting the health and well-being of children and adolescents through mobile health. Pediatrics mobile programs provide health services to children whose families have access to care barriers. The Mobile Healthcare Association Pediatrics SIG will meet virtually quarterly to explore strategies for connecting children to a primary care medical home and other needed resources.
URL:https://mobilehca.org/events-single/q4-pediatrics-sig-meeting/
LOCATION:Pediatrics SIG Meeting
CATEGORIES:Special Interest Group Meetings
ATTACH;FMTTYPE=image/png:https://mobilehca.org/wp-content/uploads/2023/02/IMG_9141blue.png
END:VEVENT
BEGIN:VEVENT
DTSTART;TZID=America/Chicago:20241113T080000
DTEND;TZID=America/Chicago:20241113T170000
DTSTAMP:20260425T080841
CREATED:20241113T143711Z
LAST-MODIFIED:20241113T150308Z
UID:10000129-1731484800-1731517200@mobilehca.org
SUMMARY:Q1 2025 Illinois Coalition Meeting
DESCRIPTION:
URL:https://mobilehca.org/events-single/2025-illinois-coalition-meeting/
LOCATION:Illinois Regional Coalition Meeting\, Ann & Robert H. Lurie Children’s Hospital of Chicago 225 E. Chicago Ave. Chicago\, IL 60611\, Chicago\, IL\, United States
CATEGORIES:Regional Coalition Meetings
ATTACH;FMTTYPE=image/png:https://mobilehca.org/wp-content/uploads/2022/12/illinois-image-desktop.png
END:VEVENT
BEGIN:VEVENT
DTSTART;TZID=America/Chicago:20241114T140000
DTEND;TZID=America/Chicago:20241114T150000
DTSTAMP:20260425T080841
CREATED:20241015T171306Z
LAST-MODIFIED:20241015T182645Z
UID:10000104-1731592800-1731596400@mobilehca.org
SUMMARY:Solutions Showcase Webinar Series
DESCRIPTION:  \n\nThursday\, November 14\, 2024 2:00 PM ET/11:00 AM PT \n\nThis FREE\, one-hour webinar highlights the importance of safety in mobile healthcare settings. Participants will learn to identify unique risks\, implement practical mitigation strategies\, and adopt policies that promote a culture of psychological safety for all team members. \n\n\n\nSpeakers\n– Ashley Giritli\, Executive Director\, Caring for Miami\n– David Wywialowski\, Ma and MDiv\, Director of Outreach & Health Ministry\, The Night Ministry
URL:https://mobilehca.org/events-single/solutions-showcase-webinar-series/
CATEGORIES:Webinars
ATTACH;FMTTYPE=image/png:https://mobilehca.org/wp-content/uploads/2023/03/healthpolicy.png
END:VEVENT
BEGIN:VEVENT
DTSTART;TZID=America/Chicago:20241119T140000
DTEND;TZID=America/Chicago:20241119T150000
DTSTAMP:20260425T080841
CREATED:20231106T174910Z
LAST-MODIFIED:20231204T213734Z
UID:10000073-1732024800-1732028400@mobilehca.org
SUMMARY:Q4 2024 Mammography SIG Meeting
DESCRIPTION:The Mammography SIG is made up of a diverse group of mobile healthcare programs coming together to discuss relevant topics such as best practices\, logistics\, and data comparisons related to mammography. The Mobile Healthcare Association Mammography SIG will meet virtually quarterly to share how mobile mammography programs are providing services and ways to reach women unable to receive regular screenings.
URL:https://mobilehca.org/events-single/q4-mammography-sig-meeting-2/
LOCATION:Mammography SIG Meeting\, Virtual
CATEGORIES:Special Interest Group Meetings
ATTACH;FMTTYPE=image/jpeg:https://mobilehca.org/wp-content/uploads/2022/12/mammography-image-desktop-jpg.webp
END:VEVENT
BEGIN:VEVENT
DTSTART;TZID=America/Chicago:20241121T130000
DTEND;TZID=America/Chicago:20241121T140000
DTSTAMP:20260425T080841
CREATED:20231106T173418Z
LAST-MODIFIED:20241007T164532Z
UID:10000069-1732194000-1732197600@mobilehca.org
SUMMARY:Q4 2024 Vision SIG Meeting
DESCRIPTION:The Vision SIG is committed to supporting and empowering mobile vision screening programs through fostering collaboration\, innovation\, and education. This SIG strives to share its members’ expertise in order to create a community to inform and inspire programs by helping maximize the essential vision health services they provide. The Mobile Healthcare Association Vision SIG will meet virtually quarterly to discuss emerging topics.
URL:https://mobilehca.org/events-single/q4-vision-sig-meeting/
LOCATION:Vision SIG Meeting\, Virtual
CATEGORIES:Special Interest Group Meetings
ATTACH;FMTTYPE=image/jpeg:https://mobilehca.org/wp-content/uploads/2022/12/agenda-min-jpg.webp
END:VEVENT
BEGIN:VEVENT
DTSTART;TZID=America/Chicago:20250116T130000
DTEND;TZID=America/Chicago:20250116T140000
DTSTAMP:20260425T080841
CREATED:20241112T202028Z
LAST-MODIFIED:20250107T160802Z
UID:10000121-1737032400-1737036000@mobilehca.org
SUMMARY:Q1 2025 Vision SIG meeting
DESCRIPTION:
URL:https://mobilehca.org/events-single/q1-vision-sig-meeting-2/
LOCATION:Vision SIG Meeting\, Virtual
CATEGORIES:Special Interest Group Meetings
ATTACH;FMTTYPE=image/jpeg:https://mobilehca.org/wp-content/uploads/2022/12/vision-image-desktop-jpg.webp
END:VEVENT
BEGIN:VEVENT
DTSTART;TZID=America/Chicago:20250122T120000
DTEND;TZID=America/Chicago:20250122T123000
DTSTAMP:20260425T080841
CREATED:20250107T195935Z
LAST-MODIFIED:20250107T200514Z
UID:10000147-1737547200-1737549000@mobilehca.org
SUMMARY:Call for Abstracts Q&A Sessions
DESCRIPTION:Call for Speaker Abstracts opens January 14\, 2025. Join us for the Call for Abstracts Q&A session on Wednesday\, January 22\, 12:00 PM – 12:30 PM ET. \nAnnual Conference registration opens on March 14\, 2025.
URL:https://mobilehca.org/events-single/call-for-abstracts-qa-sessions/
LOCATION:Virtual Event\, Virtual\, AK
ATTACH;FMTTYPE=image/jpeg:https://mobilehca.org/wp-content/uploads/2024/10/conference-event-jpg.webp
END:VEVENT
BEGIN:VEVENT
DTSTART;TZID=America/Chicago:20250123T140000
DTEND;TZID=America/Chicago:20250123T150000
DTSTAMP:20260425T080841
CREATED:20241112T200424Z
LAST-MODIFIED:20250109T185413Z
UID:10000113-1737640800-1737644400@mobilehca.org
SUMMARY:Q1 2025 Pediatrics SIG meeting
DESCRIPTION:All meetings are Eastern Standard Time
URL:https://mobilehca.org/events-single/q1-pediatrics-sig-meeting-2/
LOCATION:Pediatrics SIG Meeting
CATEGORIES:Special Interest Group Meetings
ATTACH;FMTTYPE=image/jpeg:https://mobilehca.org/wp-content/uploads/2022/12/Direct-Relief-Sponsor-jpg.webp
END:VEVENT
BEGIN:VEVENT
DTSTART;TZID=America/Chicago:20250124T100000
DTEND;TZID=America/Chicago:20250124T120000
DTSTAMP:20260425T080841
CREATED:20241113T142931Z
LAST-MODIFIED:20250107T160519Z
UID:10000126-1737712800-1737720000@mobilehca.org
SUMMARY:Q1 2025 Florida Coalition Meeting
DESCRIPTION:
URL:https://mobilehca.org/events-single/2025-florida-coalition-meeting/
LOCATION:Virtual Event\, Virtual\, AK
CATEGORIES:Regional Coalition Meetings
ATTACH;FMTTYPE=image/jpeg:https://mobilehca.org/wp-content/uploads/2022/12/florida-image-desktop-jpg.webp
END:VEVENT
BEGIN:VEVENT
DTSTART;TZID=America/Chicago:20250129T130000
DTEND;TZID=America/Chicago:20250129T150000
DTSTAMP:20260425T080841
CREATED:20241113T143142Z
LAST-MODIFIED:20250107T160617Z
UID:10000127-1738155600-1738162800@mobilehca.org
SUMMARY:Q1 2025 New York City Coalition Meeting
DESCRIPTION:
URL:https://mobilehca.org/events-single/2025-new-york-city-coalition-meeting/
LOCATION:New York City Coalition Meeting\, Ryan Health 110 West 97th Street (between Columbus and Amsterdam Avenue)\, New York\, NY\, 10021\, United States
CATEGORIES:Regional Coalition Meetings
ATTACH;FMTTYPE=image/png:https://mobilehca.org/wp-content/uploads/2022/12/nyc-image-desktop.png
END:VEVENT
BEGIN:VEVENT
DTSTART;TZID=America/Vancouver:20250130T173000
DTEND;TZID=America/Vancouver:20250130T200000
DTSTAMP:20260425T080841
CREATED:20241113T143416Z
LAST-MODIFIED:20250129T160333Z
UID:10000128-1738258200-1738267200@mobilehca.org
SUMMARY:Q1 2025 Southern California Coalition Social
DESCRIPTION:
URL:https://mobilehca.org/events-single/2025-southern-california-coalition/
LOCATION:Q2 Southern California Regional Coalition Meeting\, The California Endowment 1000 N. Alameda St Los Angeles\, CA 90012\, CA
CATEGORIES:Regional Coalition Meetings
ATTACH;FMTTYPE=image/png:https://mobilehca.org/wp-content/uploads/2022/12/SoCal-CoalitionPhoto.png
END:VEVENT
BEGIN:VEVENT
DTSTART;TZID=America/Chicago:20250131T100000
DTEND;TZID=America/Chicago:20250131T140000
DTSTAMP:20260425T080841
CREATED:20250114T194433Z
LAST-MODIFIED:20250114T194433Z
UID:10000152-1738317600-1738332000@mobilehca.org
SUMMARY:Q1 Illinois coalition meeting
DESCRIPTION:
URL:https://mobilehca.org/events-single/q1-illinois-coalition-meeting/
CATEGORIES:Regional Coalition Meetings
ATTACH;FMTTYPE=image/jpeg:https://mobilehca.org/wp-content/uploads/2022/12/events-image-min-jpg.webp
END:VEVENT
BEGIN:VEVENT
DTSTART;TZID=America/Chicago:20250204T140000
DTEND;TZID=America/Chicago:20250204T150000
DTSTAMP:20260425T080841
CREATED:20241112T195333Z
LAST-MODIFIED:20250131T164111Z
UID:10000109-1738677600-1738681200@mobilehca.org
SUMMARY:Q1 2025 Mammography SIG meeting
DESCRIPTION:All meetings are Eastern Standard Time
URL:https://mobilehca.org/events-single/q1-mammography-sig-meeting-2/
LOCATION:Mammography SIG Meeting\, Virtual
CATEGORIES:Special Interest Group Meetings
ATTACH;FMTTYPE=image/jpeg:https://mobilehca.org/wp-content/uploads/2022/12/mammography-image-desktop-jpg.webp
END:VEVENT
BEGIN:VEVENT
DTSTART;TZID=America/Chicago:20250206T140000
DTEND;TZID=America/Chicago:20250206T150000
DTSTAMP:20260425T080841
CREATED:20241112T203514Z
LAST-MODIFIED:20241219T223314Z
UID:10000125-1738850400-1738854000@mobilehca.org
SUMMARY:Q1 2025 Evaluation + Impact SIG meeting
DESCRIPTION:Meeting Topic: Survey Design\nby Mollie Williams\, DrPH\, MPH\, Executive Director\, Harvard Medical School’s The Family Van and Mobile Health Map \nUnlock the insights your community holds. Join our upcoming special interest group meeting to learn about survey design and how to craft powerful surveys that uncover needs\, measure impact\, and guide your clinic’s success. Whether you’re looking to improve services\, better understand your community\, or make data-driven decisions\, this meeting will equip you with the tools to design surveys that work.
URL:https://mobilehca.org/events-single/q1-evaluation-impact-sig-meeting-2/
LOCATION:Evaluation + Impact SIG Meeting\, Virtual
CATEGORIES:Special Interest Group Meetings
ATTACH;FMTTYPE=image/jpeg:https://mobilehca.org/wp-content/uploads/2022/12/abstracts-min-jpg.webp
END:VEVENT
BEGIN:VEVENT
DTSTART;TZID=America/New_York:20250207T120000
DTEND;TZID=America/New_York:20250207T133000
DTSTAMP:20260425T080841
CREATED:20241113T144329Z
LAST-MODIFIED:20241113T152000Z
UID:10000130-1738929600-1738935000@mobilehca.org
SUMMARY:Q1 2025 North Carolina Coalition Meeting
DESCRIPTION:
URL:https://mobilehca.org/events-single/2025-north-carolina-coalition-meeting/
LOCATION:Virtual Event\, Virtual\, AK
CATEGORIES:Regional Coalition Meetings
ATTACH;FMTTYPE=image/jpeg:https://mobilehca.org/wp-content/uploads/2024/07/north-carolina-coalition-jpg.webp
END:VEVENT
BEGIN:VEVENT
DTSTART;TZID=America/Denver:20250211T140000
DTEND;TZID=America/Denver:20250211T150000
DTSTAMP:20260425T080841
CREATED:20241113T144656Z
LAST-MODIFIED:20241220T161722Z
UID:10000131-1739282400-1739286000@mobilehca.org
SUMMARY:Q1 2025 Native American Coalition Meeting
DESCRIPTION:
URL:https://mobilehca.org/events-single/2025-native-american-coalition-meeting/
LOCATION:Native American Coalition
CATEGORIES:Regional Coalition Meetings
ATTACH;FMTTYPE=image/png:https://mobilehca.org/wp-content/uploads/2022/12/native-american-image-desktop.png
END:VEVENT
BEGIN:VEVENT
DTSTART;TZID=America/Chicago:20250220T140000
DTEND;TZID=America/Chicago:20250220T150000
DTSTAMP:20260425T080841
CREATED:20250113T180135Z
LAST-MODIFIED:20250113T183027Z
UID:10000148-1740060000-1740063600@mobilehca.org
SUMMARY:Q1 Behavioral Health SIG Meeting
DESCRIPTION:
URL:https://mobilehca.org/events-single/q1-behavioral-health-meeting/
CATEGORIES:Special Interest Group Meetings
ATTACH;FMTTYPE=image/jpeg:https://mobilehca.org/wp-content/uploads/2022/12/events-image-min-jpg.webp
END:VEVENT
BEGIN:VEVENT
DTSTART;TZID=America/Chicago:20250221T130000
DTEND;TZID=America/Chicago:20250221T140000
DTSTAMP:20260425T080841
CREATED:20231106T164118Z
LAST-MODIFIED:20241102T171901Z
UID:10000056-1740142800-1740146400@mobilehca.org
SUMMARY:Q1 2025 Sexual & Reproductive Health SIG meeting
DESCRIPTION:The Sexual & Reproductive Health SIG is made up of a diverse group of mobile healthcare programs offering these services in a variety of ways! This SIG seeks to be a support system for one another and for any programs interested in improving access to SRH services on their mobile unit. The Mobile Healthcare Association Sexual & Reproductive Health SIG will meet virtually quarterly to share best practices in the hopes of making high-quality SRH services more accessible to all.
URL:https://mobilehca.org/events-single/q1-2025-sexual-reproductive-health-sig-meeting/
LOCATION:Sexual and Reproductive Health SIG Meeting\, Virtual\, United States
CATEGORIES:Special Interest Group Meetings
ATTACH;FMTTYPE=image/jpeg:https://mobilehca.org/wp-content/uploads/2022/12/board-nominations-min-jpg.webp
END:VEVENT
BEGIN:VEVENT
DTSTART;TZID=America/Chicago:20250320T140000
DTEND;TZID=America/Chicago:20250320T150000
DTSTAMP:20260425T080841
CREATED:20250124T182705Z
LAST-MODIFIED:20250224T200145Z
UID:10000155-1742479200-1742482800@mobilehca.org
SUMMARY:Solutions Showcase Webinar Series
DESCRIPTION:This FREE\, one-hour webinar (2:00pm ET\, 11:00am PT) will highlight strategies to enhance the effectiveness of community health workers (CHWs) within your mobile healthcare team. Gain valuable insights to boost team performance and improve community health outcomes.
URL:https://mobilehca.org/events-single/solutions-showcase-webinar-series-2/
CATEGORIES:Webinars
ATTACH;FMTTYPE=image/png:https://mobilehca.org/wp-content/uploads/2023/03/webinar.png
END:VEVENT
BEGIN:VEVENT
DTSTART;TZID=America/Chicago:20250321T093000
DTEND;TZID=America/Chicago:20250321T143000
DTSTAMP:20260425T080841
CREATED:20241113T145147Z
LAST-MODIFIED:20250222T161945Z
UID:10000132-1742549400-1742567400@mobilehca.org
SUMMARY:2025 Southeast Coalition Meeting
DESCRIPTION:  \n 
URL:https://mobilehca.org/events-single/2025-southeast-coalition-meeting/
LOCATION:Family Health Centers of Georgia\, Family Health Centers of Georgia 868 York Avenue\, SW\, Atlanta\, GA\, 30310\, United States
CATEGORIES:Regional Coalition Meetings
ATTACH;FMTTYPE=image/png:https://mobilehca.org/wp-content/uploads/2022/12/southeast-image-desktop.png
END:VEVENT
BEGIN:VEVENT
DTSTART;TZID=America/New_York:20250325T113000
DTEND;TZID=America/New_York:20250325T130000
DTSTAMP:20260425T080841
CREATED:20241113T145450Z
LAST-MODIFIED:20241113T145450Z
UID:10000133-1742902200-1742907600@mobilehca.org
SUMMARY:2025 Mid-Atlantic Coalition Meeting
DESCRIPTION:
URL:https://mobilehca.org/events-single/2025-mid-atlantic-coalition-meeting/
LOCATION:Virtual Event\, Virtual\, AK
CATEGORIES:Regional Coalition Meetings
ATTACH;FMTTYPE=image/png:https://mobilehca.org/wp-content/uploads/2022/12/mid-atlantic-image-desktop.png
END:VEVENT
BEGIN:VEVENT
DTSTART;TZID=America/Vancouver:20250403T090000
DTEND;TZID=America/Vancouver:20250403T150000
DTSTAMP:20260425T080841
CREATED:20241113T145654Z
LAST-MODIFIED:20250220T225111Z
UID:10000134-1743670800-1743692400@mobilehca.org
SUMMARY:2025 Northern California Coalition Meeting
DESCRIPTION:
URL:https://mobilehca.org/events-single/2025-northern-california-coalition-meeting/
LOCATION:City of Fremont Downtown Event Center\, Downtown Event Center\, 3500 Capitol Ave\, Fremont\, 94538\, United States
CATEGORIES:Regional Coalition Meetings
ATTACH;FMTTYPE=image/png:https://mobilehca.org/wp-content/uploads/2022/12/northern-california-image-desktop.png
END:VEVENT
BEGIN:VEVENT
DTSTART;TZID=America/Chicago:20250404T093000
DTEND;TZID=America/Chicago:20250404T140000
DTSTAMP:20260425T080841
CREATED:20250403T151504Z
LAST-MODIFIED:20250403T152015Z
UID:10000159-1743759000-1743775200@mobilehca.org
SUMMARY:Q2 2025 Pacific Northwest Coalition
DESCRIPTION:Pacific Northwest Regional Coalition meets annually to network with their mobile healthcare colleagues\, share best practices and learn more about what other programs are doing in their communities.
URL:https://mobilehca.org/events-single/q2-2025-pacific-northwest-coalition/
LOCATION:Pacific Northwest Regional Coalition Meeting\, Medical Teams International\, 14150 SW Milton Ct\, Tigard\, OR 97224
CATEGORIES:Regional Coalition Meetings
ATTACH;FMTTYPE=image/png:https://mobilehca.org/wp-content/uploads/2022/12/pacific-northwest-image-desktop.png
END:VEVENT
BEGIN:VEVENT
DTSTART;TZID=America/Vancouver:20250404T100000
DTEND;TZID=America/Vancouver:20250404T140000
DTSTAMP:20260425T080841
CREATED:20241113T145915Z
LAST-MODIFIED:20250214T221848Z
UID:10000135-1743760800-1743775200@mobilehca.org
SUMMARY:2025 Pacific Northwest Coalition Meeting
DESCRIPTION:
URL:https://mobilehca.org/events-single/2025-pacific-northwest-coalition-meeting/
LOCATION:Pacific Northwest Regional Coalition Meeting\, Medical Teams International\, 14150 SW Milton Ct\, Tigard\, OR 97224
CATEGORIES:Regional Coalition Meetings
ATTACH;FMTTYPE=image/png:https://mobilehca.org/wp-content/uploads/2022/12/pacific-northwest-image-desktop.png
END:VEVENT
BEGIN:VEVENT
DTSTART;TZID=America/New_York:20250404T100000
DTEND;TZID=America/New_York:20250404T140000
DTSTAMP:20260425T080841
CREATED:20241113T150122Z
LAST-MODIFIED:20250218T165403Z
UID:10000136-1743760800-1743775200@mobilehca.org
SUMMARY:2025 Ohio Coalition Meeting
DESCRIPTION:
URL:https://mobilehca.org/events-single/2025-ohio-coalition-meeting/
LOCATION:Ohio Dominican University\, Ohio Dominican University\, Alumni Hall Community Room\,1216 Sunbury Rd\,\, Columbus\, OH\, 43219\, United States
CATEGORIES:Regional Coalition Meetings
ATTACH;FMTTYPE=image/png:https://mobilehca.org/wp-content/uploads/2022/12/ohio-image-desktop.png
END:VEVENT
BEGIN:VEVENT
DTSTART;TZID=America/Chicago:20250411T090000
DTEND;TZID=America/Chicago:20250411T140000
DTSTAMP:20260425T080841
CREATED:20241113T150725Z
LAST-MODIFIED:20241113T150725Z
UID:10000138-1744362000-1744380000@mobilehca.org
SUMMARY:2025 Missouri Coalition Meeting
DESCRIPTION:
URL:https://mobilehca.org/events-single/2025-missouri-coalition-meeting/
LOCATION:Missouri Regional Coalition Meeting\, BJC at The \, Conference Rooms 101 & 102\, 4249 Clayton Ave\, St. Louis\, MO\, 63112\, United States
CATEGORIES:Regional Coalition Meetings
ATTACH;FMTTYPE=image/png:https://mobilehca.org/wp-content/uploads/2022/12/missouri-image-desktop.png
END:VEVENT
BEGIN:VEVENT
DTSTART;TZID=America/Chicago:20250411T100000
DTEND;TZID=America/Chicago:20250411T140000
DTSTAMP:20260425T080841
CREATED:20241113T150519Z
LAST-MODIFIED:20250221T172313Z
UID:10000137-1744365600-1744380000@mobilehca.org
SUMMARY:Q2 2025 Illinois Coalition Meeting
DESCRIPTION:
URL:https://mobilehca.org/events-single/q2-2025-illinois-coalition-meeting/
LOCATION:Sarah Bush Lincoln\, Sarah Bush Lincoln Health Center\, 1000 Health Center Dr\, Matoon\, IL\, United States
CATEGORIES:Regional Coalition Meetings
ATTACH;FMTTYPE=image/png:https://mobilehca.org/wp-content/uploads/2022/12/illinois-image-desktop.png
END:VEVENT
BEGIN:VEVENT
DTSTART;TZID=America/Chicago:20250417T130000
DTEND;TZID=America/Chicago:20250417T140000
DTSTAMP:20260425T080841
CREATED:20241112T202311Z
LAST-MODIFIED:20250319T180441Z
UID:10000122-1744894800-1744898400@mobilehca.org
SUMMARY:Q2 2025 Vision SIG meeting
DESCRIPTION:
URL:https://mobilehca.org/events-single/q2-vision-sig-meeting-3/
LOCATION:Vision SIG Meeting\, Virtual
CATEGORIES:Special Interest Group Meetings
ATTACH;FMTTYPE=image/jpeg:https://mobilehca.org/wp-content/uploads/2022/12/vision-image-desktop-jpg.webp
END:VEVENT
BEGIN:VEVENT
DTSTART;TZID=America/Chicago:20250423T010000
DTEND;TZID=America/Chicago:20250423T140000
DTSTAMP:20260425T080841
CREATED:20250331T212552Z
LAST-MODIFIED:20250403T174550Z
UID:10000157-1745370000-1745416800@mobilehca.org
SUMMARY:Cultivating a Culture of Philanthropy in Mobile Healthcare Organizations
DESCRIPTION:This free\, one-hour webinar is designed for mobile healthcare providers interested in enhancing their financial sustainability through philanthropy. We will explore how to integrate a philanthropic mindset at all levels of your organization—from leadership to frontline staff—while remaining focused on your mission and patients. Participants will learn: \n• Practical strategies to engage staff in fundraising \n• How to build donor relationships \n• How to highlight the unique impact of mobile healthcare to donors \nWhether your organization is new to fundraising or looking to refine its approach\, this session will provide concrete steps to foster a culture of philanthropy. \nGuest Speaker: Alison Gray
URL:https://mobilehca.org/events-single/cultivating-a-culture-of-philanthropy-in-mobile-healthcare-organizations/
LOCATION:Virtual Event\, Virtual\, AK
CATEGORIES:Webinars
ATTACH;FMTTYPE=image/png:https://mobilehca.org/wp-content/uploads/2023/03/webinar.png
END:VEVENT
BEGIN:VEVENT
DTSTART;TZID=America/Chicago:20250424T140000
DTEND;TZID=America/Chicago:20250424T150000
DTSTAMP:20260425T080841
CREATED:20250113T181128Z
LAST-MODIFIED:20250417T152016Z
UID:10000149-1745503200-1745506800@mobilehca.org
SUMMARY:Q2 2025 Behavioral Health meeting
DESCRIPTION:
URL:https://mobilehca.org/events-single/q2-behavioral-health-meeting/
CATEGORIES:Special Interest Group Meetings
ATTACH;FMTTYPE=image/jpeg:https://mobilehca.org/wp-content/uploads/2022/12/events-image-min-jpg.webp
END:VEVENT
END:VCALENDAR