BEGIN:VCALENDAR
VERSION:2.0
PRODID:-//Mobile Healthcare Association - ECPv6.15.3//NONSGML v1.0//EN
CALSCALE:GREGORIAN
METHOD:PUBLISH
X-WR-CALNAME:Mobile Healthcare Association
X-ORIGINAL-URL:https://mobilehca.org
X-WR-CALDESC:Events for Mobile Healthcare Association
REFRESH-INTERVAL;VALUE=DURATION:PT1H
X-Robots-Tag:noindex
X-PUBLISHED-TTL:PT1H
BEGIN:VTIMEZONE
TZID:America/Chicago
BEGIN:DAYLIGHT
TZOFFSETFROM:-0600
TZOFFSETTO:-0500
TZNAME:CDT
DTSTART:20260308T080000
END:DAYLIGHT
BEGIN:STANDARD
TZOFFSETFROM:-0500
TZOFFSETTO:-0600
TZNAME:CST
DTSTART:20261101T070000
END:STANDARD
END:VTIMEZONE
BEGIN:VEVENT
DTSTART;TZID=America/Chicago:20260304T130000
DTEND;TZID=America/Chicago:20260304T140000
DTSTAMP:20260423T120931
CREATED:20260224T143449Z
LAST-MODIFIED:20260224T143734Z
UID:10000230-1772629200-1772632800@mobilehca.org
SUMMARY:Mobile Clinics: Navigating the Changing Landscape in 2026
DESCRIPTION:Across the country\, mobile clinics are demonstrating their power to reach people that traditional healthcare often leaves behind. The landscape is also changing quickly\, driven by funding initiatives such as the Rural Health Transformation Program\, a growing focus on preventive health and value-based care\, new policy recommendations\, increased state-level interest in mobile health\, and anticipated Medicaid cuts. \nJoin Mobile Health Map and Mobile Healthcare Association to explore how mobile clinics can navigate a rapidly changing landscape in 2026. \n\nKey findings from the latest Mobile Health Map Landscape Report\nUpdates on the Mobile Healthcare Association’s Certificate of Excellence\nHow to use your data to strengthen your case for sustainability and growth\nWays you can help shape and grow the mobile health movement\n\nThis free\, one-hour webinar is designed for mobile clinic leaders\, program staff\, and partners who want to stay ahead of sector trends and play an active role in shaping the future of mobile healthcare. Join us for this timely conversation about how we can strengthen programs and advance the field together.
URL:https://mobilehca.org/events-single/mobile-clinics-navigating-the-changing-landscape-in-2026/
LOCATION:Virtual Event\, Virtual\, AK
CATEGORIES:Webinars
ATTACH;FMTTYPE=image/webp:https://mobilehca.org/wp-content/uploads/2025/12/fort.webp
END:VEVENT
BEGIN:VEVENT
DTSTART;TZID=America/Chicago:20260313T123000
DTEND;TZID=America/Chicago:20260313T130000
DTSTAMP:20260423T120931
CREATED:20260312T184426Z
LAST-MODIFIED:20260312T185153Z
UID:10000234-1773405000-1773406800@mobilehca.org
SUMMARY:Q&A Session – Call for Abstracts
DESCRIPTION:Presenting at this year’s conference in Kansas City\, September 26–28\, 2026 is a great opportunity to:\n✅ Highlight your work advancing mobile healthcare\n✅ Connect with leaders and advocates\n✅ Engage with peers facing similar challenges \n📌 Abstract submission deadline: Tuesday\, April 21\, 2026 \n 
URL:https://mobilehca.org/events-single/qa-session-call-for-abstracts/
LOCATION:Virtual Event\, Virtual\, AK
ATTACH;FMTTYPE=image/jpeg:https://mobilehca.org/wp-content/uploads/2026/03/speaker.avif
END:VEVENT
BEGIN:VEVENT
DTSTART;TZID=America/Chicago:20260325T130000
DTEND;TZID=America/Chicago:20260325T141500
DTSTAMP:20260423T120931
CREATED:20251217T163353Z
LAST-MODIFIED:20260223T203813Z
UID:10000220-1774443600-1774448100@mobilehca.org
SUMMARY:Bridging Gaps in Maternal Health: Integrating Services into Mobile Healthcare Programs
DESCRIPTION:Maternal health disparities continue to disproportionately affect underserved communities\, particularly among women of color. Mobile healthcare programs are uniquely positioned to bridge these gaps by delivering integrated\, accessible care that supports both mother and infant from pregnancy through the postpartum year. This training equips healthcare leaders and providers with practical strategies to incorporate maternal health services into mobile settings. Participants will explore care integration models\, billing and reimbursement pathways\, and real-world examples of successful programs that improve outcomes through culturally responsive\, equity-centered care. \nLearning Objectives: \n\nDesign a strategy to incorporate maternal health services—including prenatal\, postpartum\, and infant care—into existing mobile clinic operations.\nIdentify and navigate billing\, coding\, and reimbursement opportunities that support sustainable maternal health service delivery.\nApply best practices and lessons learned from high-performing mobile maternal health programs to enhance care quality and access.
URL:https://mobilehca.org/events-single/bridging-gaps-in-maternal-health-integrating-services-into-mobile-healthcare-programs/
CATEGORIES:Webinars
ATTACH;FMTTYPE=image/webp:https://mobilehca.org/wp-content/uploads/2025/12/masterclass-bridging-gaps.webp
END:VEVENT
BEGIN:VEVENT
DTSTART;TZID=America/Chicago:20260327T090000
DTEND;TZID=America/Chicago:20260327T140000
DTSTAMP:20260423T120931
CREATED:20260211T202008Z
LAST-MODIFIED:20260211T202831Z
UID:10000227-1774602000-1774620000@mobilehca.org
SUMMARY:2026 Texas Regional Coalition
DESCRIPTION:
URL:https://mobilehca.org/events-single/2026-texas-coalition-meeting/
CATEGORIES:Regional Coalition Meetings
ATTACH;FMTTYPE=image/png:https://mobilehca.org/wp-content/uploads/2022/12/texas-image-desktop.png
END:VEVENT
BEGIN:VEVENT
DTSTART;TZID=America/Chicago:20260327T090000
DTEND;TZID=America/Chicago:20260327T143000
DTSTAMP:20260423T120931
CREATED:20251204T184525Z
LAST-MODIFIED:20260225T014213Z
UID:10000214-1774602000-1774621800@mobilehca.org
SUMMARY:Q1 2026 Southeast Coalition Meeting
DESCRIPTION:
URL:https://mobilehca.org/events-single/q1-2026-southeast-coalition-meeting/
CATEGORIES:Regional Coalition Meetings
ATTACH;FMTTYPE=image/png:https://mobilehca.org/wp-content/uploads/2022/12/southeast-image-desktop.png
END:VEVENT
END:VCALENDAR