BEGIN:VCALENDAR
VERSION:2.0
PRODID:-//Mobile Healthcare Association - ECPv6.15.3//NONSGML v1.0//EN
CALSCALE:GREGORIAN
METHOD:PUBLISH
X-ORIGINAL-URL:https://mobilehca.org
X-WR-CALDESC:Events for Mobile Healthcare Association
REFRESH-INTERVAL;VALUE=DURATION:PT1H
X-Robots-Tag:noindex
X-PUBLISHED-TTL:PT1H
BEGIN:VTIMEZONE
TZID:America/Chicago
BEGIN:DAYLIGHT
TZOFFSETFROM:-0600
TZOFFSETTO:-0500
TZNAME:CDT
DTSTART:20260308T080000
END:DAYLIGHT
BEGIN:STANDARD
TZOFFSETFROM:-0500
TZOFFSETTO:-0600
TZNAME:CST
DTSTART:20261101T070000
END:STANDARD
END:VTIMEZONE
BEGIN:VEVENT
DTSTART;TZID=America/Chicago:20261120T130000
DTEND;TZID=America/Chicago:20261120T140000
DTSTAMP:20260425T065322
CREATED:20251124T223210Z
LAST-MODIFIED:20251124T223210Z
UID:10000191-1795179600-1795183200@mobilehca.org
SUMMARY:2026 Q4 Sexual and Reproductive Health Special Interest Group Meeting
DESCRIPTION:
URL:https://mobilehca.org/events-single/2026-q4-sexual-and-reproductive-health-special-interest-group-meeting/
ATTACH;FMTTYPE=image/jpeg:https://mobilehca.org/wp-content/uploads/2022/12/sexual-and-reproductive-health-image-desktop-jpg.webp
END:VEVENT
END:VCALENDAR