BEGIN:VCALENDAR
VERSION:2.0
PRODID:-//Mobile Healthcare Association - ECPv6.15.3//NONSGML v1.0//EN
CALSCALE:GREGORIAN
METHOD:PUBLISH
X-WR-CALNAME:Mobile Healthcare Association
X-ORIGINAL-URL:https://mobilehca.org
X-WR-CALDESC:Events for Mobile Healthcare Association
REFRESH-INTERVAL;VALUE=DURATION:PT1H
X-Robots-Tag:noindex
X-PUBLISHED-TTL:PT1H
BEGIN:VTIMEZONE
TZID:America/Chicago
BEGIN:DAYLIGHT
TZOFFSETFROM:-0600
TZOFFSETTO:-0500
TZNAME:CDT
DTSTART:20260308T080000
END:DAYLIGHT
BEGIN:STANDARD
TZOFFSETFROM:-0500
TZOFFSETTO:-0600
TZNAME:CST
DTSTART:20261101T070000
END:STANDARD
END:VTIMEZONE
BEGIN:VTIMEZONE
TZID:America/Indiana/Marengo
BEGIN:DAYLIGHT
TZOFFSETFROM:-0500
TZOFFSETTO:-0400
TZNAME:EDT
DTSTART:20260308T070000
END:DAYLIGHT
BEGIN:STANDARD
TZOFFSETFROM:-0400
TZOFFSETTO:-0500
TZNAME:EST
DTSTART:20261101T060000
END:STANDARD
END:VTIMEZONE
BEGIN:VTIMEZONE
TZID:America/Vancouver
BEGIN:DAYLIGHT
TZOFFSETFROM:-0800
TZOFFSETTO:-0700
TZNAME:PDT
DTSTART:20260308T100000
END:DAYLIGHT
BEGIN:STANDARD
TZOFFSETFROM:-0700
TZOFFSETTO:-0800
TZNAME:PST
DTSTART:20261101T090000
END:STANDARD
END:VTIMEZONE
BEGIN:VEVENT
DTSTART;TZID=America/Chicago:20260423T140000
DTEND;TZID=America/Chicago:20260423T150000
DTSTAMP:20260423T081147
CREATED:20251124T215712Z
LAST-MODIFIED:20251124T221905Z
UID:10000174-1776952800-1776956400@mobilehca.org
SUMMARY:2026 Q2 Behavioral Health Special Interest Group Meeting
DESCRIPTION:
URL:https://mobilehca.org/events-single/2026-q2-behavioral-health-special-interest-group-meeting/
CATEGORIES:Special Interest Group Meetings
ATTACH;FMTTYPE=image/webp:https://mobilehca.org/wp-content/uploads/2025/07/events-image-min-jpg.webp
END:VEVENT
BEGIN:VEVENT
DTSTART;TZID=America/Chicago:20260424T090000
DTEND;TZID=America/Chicago:20260424T140000
DTSTAMP:20260423T081147
CREATED:20251204T182210Z
LAST-MODIFIED:20251204T182210Z
UID:10000203-1777021200-1777039200@mobilehca.org
SUMMARY:Q2 2026 Missouri Coalition Meeting
DESCRIPTION:
URL:https://mobilehca.org/events-single/q2-2026-missouri-coalition-meeting/
CATEGORIES:Regional Coalition Meetings
ATTACH;FMTTYPE=image/png:https://mobilehca.org/wp-content/uploads/2022/12/missouri-image-desktop.png
END:VEVENT
BEGIN:VEVENT
DTSTART;TZID=America/Chicago:20260424T093000
DTEND;TZID=America/Chicago:20260424T150000
DTSTAMP:20260423T081147
CREATED:20251204T183730Z
LAST-MODIFIED:20251204T183730Z
UID:10000210-1777023000-1777042800@mobilehca.org
SUMMARY:Q2 2026 Northern California Coalition Meeting
DESCRIPTION:
URL:https://mobilehca.org/events-single/q2-2026-northern-california-coalition-meeting/
CATEGORIES:Regional Coalition Meetings
ATTACH;FMTTYPE=image/png:https://mobilehca.org/wp-content/uploads/2022/12/northern-california-image-desktop.png
END:VEVENT
BEGIN:VEVENT
DTSTART;TZID=America/Chicago:20260430T140000
DTEND;TZID=America/Chicago:20260430T150000
DTSTAMP:20260423T081147
CREATED:20251124T222340Z
LAST-MODIFIED:20251124T222340Z
UID:10000185-1777557600-1777561200@mobilehca.org
SUMMARY:2026 Q2 Pediatrics Special Interest Group Meeting
DESCRIPTION:
URL:https://mobilehca.org/events-single/2026-q2-pediatrics-special-interest-group-meeting/
ATTACH;FMTTYPE=image/webp:https://mobilehca.org/wp-content/uploads/2025/06/pediatrics-image-desktop-jpg.webp
END:VEVENT
BEGIN:VEVENT
DTSTART;TZID=America/Chicago:20260501T090000
DTEND;TZID=America/Chicago:20260501T140000
DTSTAMP:20260423T081147
CREATED:20251204T182700Z
LAST-MODIFIED:20251204T182700Z
UID:10000206-1777626000-1777644000@mobilehca.org
SUMMARY:Q2 2026 New England Coalition Meeting
DESCRIPTION:
URL:https://mobilehca.org/events-single/q2-2026-new-england-coalition-meeting/
CATEGORIES:Regional Coalition Meetings
ATTACH;FMTTYPE=image/png:https://mobilehca.org/wp-content/uploads/2022/12/new-england-image-desktop.png
END:VEVENT
BEGIN:VEVENT
DTSTART;TZID=America/Chicago:20260501T093000
DTEND;TZID=America/Chicago:20260501T150000
DTSTAMP:20260423T081147
CREATED:20251204T180749Z
LAST-MODIFIED:20251204T191244Z
UID:10000198-1777627800-1777647600@mobilehca.org
SUMMARY:Q2 2026 Florida Coalition Meeting
DESCRIPTION:
URL:https://mobilehca.org/events-single/q2-florida-coalition-meeting/
CATEGORIES:Regional Coalition Meetings
ATTACH;FMTTYPE=image/jpeg:https://mobilehca.org/wp-content/uploads/2022/12/florida-image-desktop-jpg.webp
END:VEVENT
BEGIN:VEVENT
DTSTART;TZID=America/Chicago:20260506T140000
DTEND;TZID=America/Chicago:20260506T150000
DTSTAMP:20260423T081147
CREATED:20251204T182534Z
LAST-MODIFIED:20251204T182534Z
UID:10000205-1778076000-1778079600@mobilehca.org
SUMMARY:Q2 2026 Native American Coalition Virtual Meeting
DESCRIPTION:
URL:https://mobilehca.org/events-single/q2-2026-native-american-coalition-virtual-meeting/
CATEGORIES:Special Interest Group Meetings
ATTACH;FMTTYPE=image/png:https://mobilehca.org/wp-content/uploads/2022/12/native-american-image-desktop.png
END:VEVENT
BEGIN:VEVENT
DTSTART;TZID=America/Chicago:20260507T120000
DTEND;TZID=America/Chicago:20260507T150000
DTSTAMP:20260423T081147
CREATED:20260223T205037Z
LAST-MODIFIED:20260223T205122Z
UID:10000228-1778155200-1778166000@mobilehca.org
SUMMARY:2026 Spring Intensive Training Course for New Mobile Programs | Part 1
DESCRIPTION:Part 1: Thursday\, May 7\, 2026\nPart 2: Thursday\, May 14\, 2026\n12:00 PM – 3:00 PM ET \nThis comprehensive\, virtual event is designed for mobile healthcare professionals to deepen their knowledge of starting or running a mobile health clinic. This two-day course will provide access to resources and network contacts\, templates\, and sample documents for you to take back to your program. The curriculum is geared towards providers and administrators and will cover the essential steps to consider when starting a mobile healthcare program.
URL:https://mobilehca.org/events-single/spring-intensive-training-course-for-new-mobile-programs-part-1/
CATEGORIES:Intensive Training Courses
ATTACH;FMTTYPE=image/jpeg:https://mobilehca.org/wp-content/uploads/2022/12/agenda-min-jpg.webp
END:VEVENT
BEGIN:VEVENT
DTSTART;TZID=America/Chicago:20260508T090000
DTEND;TZID=America/Chicago:20260508T143000
DTSTAMP:20260423T081147
CREATED:20251204T181946Z
LAST-MODIFIED:20251204T181946Z
UID:10000202-1778230800-1778250600@mobilehca.org
SUMMARY:Q2 2026 Mid-Atlantic Coalition Meeting
DESCRIPTION:
URL:https://mobilehca.org/events-single/q2-2026-mid-atlantic-coalition-meeting/
CATEGORIES:Regional Coalition Meetings
ATTACH;FMTTYPE=image/png:https://mobilehca.org/wp-content/uploads/2022/12/mid-atlantic-image-desktop.png
END:VEVENT
BEGIN:VEVENT
DTSTART;TZID=America/Chicago:20260512T140000
DTEND;TZID=America/Chicago:20260512T150000
DTSTAMP:20260423T081147
CREATED:20251124T221136Z
LAST-MODIFIED:20251124T221834Z
UID:10000181-1778594400-1778598000@mobilehca.org
SUMMARY:2026 Q2 Mammography Special Interest Group Meeting
DESCRIPTION:
URL:https://mobilehca.org/events-single/2026-q2-mammography-special-interest-group-meeting/
CATEGORIES:Special Interest Group Meetings
ATTACH;FMTTYPE=image/webp:https://mobilehca.org/wp-content/uploads/2025/08/mammography-image-desktop-jpg.webp
END:VEVENT
BEGIN:VEVENT
DTSTART;TZID=America/Chicago:20260514T120000
DTEND;TZID=America/Chicago:20260514T150000
DTSTAMP:20260423T081147
CREATED:20260223T205511Z
LAST-MODIFIED:20260309T155620Z
UID:10000229-1778760000-1778770800@mobilehca.org
SUMMARY:2026 Spring Intensive Training Course for New Mobile Programs | Part 2
DESCRIPTION:Part 1: Thursday\, May 7\, 2026\nPart 2: Thursday\, May 14\, 2026\n12:00 PM – 3:00 PM ET \nThis comprehensive\, virtual event is designed for mobile healthcare professionals to deepen their knowledge of starting or running a mobile health clinic. This two-day course will provide access to resources and network contacts\, templates\, and sample documents for you to take back to your program. The curriculum is geared towards providers and administrators and will cover the essential steps to consider when starting a mobile healthcare program.
URL:https://mobilehca.org/events-single/2026-spring-intensive-training-course-for-new-mobile-programs-part-2/
CATEGORIES:Intensive Training Courses
ATTACH;FMTTYPE=image/jpeg:https://mobilehca.org/wp-content/uploads/2022/12/agenda-min-jpg.webp
END:VEVENT
BEGIN:VEVENT
DTSTART;TZID=America/Chicago:20260515T093000
DTEND;TZID=America/Chicago:20260515T140000
DTSTAMP:20260423T081147
CREATED:20251204T204251Z
LAST-MODIFIED:20251204T204251Z
UID:10000218-1778837400-1778853600@mobilehca.org
SUMMARY:Q2 2026 North Carolina Coalition Meeting
DESCRIPTION:
URL:https://mobilehca.org/events-single/q2-2026-north-carolina-coalition-meeting-2/
CATEGORIES:Regional Coalition Meetings
ATTACH;FMTTYPE=image/jpeg:https://mobilehca.org/wp-content/uploads/2024/07/north-carolina-coalition-jpg.webp
END:VEVENT
BEGIN:VEVENT
DTSTART;TZID=America/Chicago:20260515T130000
DTEND;TZID=America/Chicago:20260515T140000
DTSTAMP:20260423T081147
CREATED:20251124T222955Z
LAST-MODIFIED:20251124T222955Z
UID:10000189-1778850000-1778853600@mobilehca.org
SUMMARY:2026 Q2 Sexual and Reproductive Health Special Interest Group Meeting
DESCRIPTION:
URL:https://mobilehca.org/events-single/2026-q2-sexual-and-reproductive-health-special-interest-group-meeting/
ATTACH;FMTTYPE=image/jpeg:https://mobilehca.org/wp-content/uploads/2022/12/sexual-and-reproductive-health-image-desktop-jpg.webp
END:VEVENT
BEGIN:VEVENT
DTSTART;TZID=America/Chicago:20260519T140000
DTEND;TZID=America/Chicago:20260519T150000
DTSTAMP:20260423T081147
CREATED:20251124T220508Z
LAST-MODIFIED:20251124T221812Z
UID:10000178-1779199200-1779202800@mobilehca.org
SUMMARY:2026 Q2 Evaluation + Impact Special Interest Group Meeting
DESCRIPTION:
URL:https://mobilehca.org/events-single/2026-q2-evaluation-impact-special-interest-group-meeting/
CATEGORIES:Special Interest Group Meetings
ATTACH;FMTTYPE=image/png:https://mobilehca.org/wp-content/uploads/2025/07/EvaluationCover.png
END:VEVENT
BEGIN:VEVENT
DTSTART;TZID=America/Chicago:20260602T130000
DTEND;TZID=America/Chicago:20260602T141500
DTSTAMP:20260423T081147
CREATED:20251218T173248Z
LAST-MODIFIED:20251218T173328Z
UID:10000222-1780405200-1780409700@mobilehca.org
SUMMARY:Scaling Up: Strategies for Growing Your Mobile Health Program - Part One
DESCRIPTION:Scaling mobile clinic operations-whether by adding new lines of service\, expanding to new sites\, or growing geographically – requires a structured\, strategic approach. The following key elements are essential for developing a successful scaling plan: \nLearning Objectives: \n\nNeeds Assessment and Community Analysis\nClear Objectives and Vision\nService Delivery Model and Customization\nOperational and Logistical Planning\nWorkforce Development and Training
URL:https://mobilehca.org/events-single/scaling-up-strategies-for-growing-your-mobile-health-program-part-one/
CATEGORIES:Webinars
ATTACH;FMTTYPE=image/webp:https://mobilehca.org/wp-content/uploads/2025/12/masterclass-scaling-up.webp
END:VEVENT
BEGIN:VEVENT
DTSTART;TZID=America/Chicago:20260609T130000
DTEND;TZID=America/Chicago:20260609T141500
DTSTAMP:20260423T081147
CREATED:20251218T173606Z
LAST-MODIFIED:20251218T173606Z
UID:10000223-1781010000-1781014500@mobilehca.org
SUMMARY:Scaling Up: Strategies for Growing Your Mobile Health Program - Part Two
DESCRIPTION:Part 2 of our two-part series on scaling mobile clinic operations-whether by adding new lines of service\, expanding to new sites\, or growing geographically-requires a structured\, strategic approach. \n\nThe following key elements are essential for developing a successful scaling plan:\nPartnerships and Stakeholder Engagement\nTechnology and Data Management\nRegulatory Compliance\nFinancial Planning and Sustainability\nMonitoring\, Evaluation\, and Continuous Improvement
URL:https://mobilehca.org/events-single/scaling-up-strategies-for-growing-your-mobile-health-program-part-two/
CATEGORIES:Webinars
ATTACH;FMTTYPE=image/webp:https://mobilehca.org/wp-content/uploads/2025/12/masterclass-scaling-up.webp
END:VEVENT
BEGIN:VEVENT
DTSTART;TZID=America/Chicago:20260610T130000
DTEND;TZID=America/Chicago:20260610T150000
DTSTAMP:20260423T081147
CREATED:20260410T144749Z
LAST-MODIFIED:20260410T145328Z
UID:10000235-1781096400-1781103600@mobilehca.org
SUMMARY:New York City Coalition Meeting
DESCRIPTION:
URL:https://mobilehca.org/events-single/new-york-city-coalition-meeting-2/
CATEGORIES:Regional Coalition Meetings
ATTACH;FMTTYPE=image/png:https://mobilehca.org/wp-content/uploads/2022/12/nyc-image-desktop.png
END:VEVENT
BEGIN:VEVENT
DTSTART;TZID=America/Indiana/Marengo:20260612T100000
DTEND;TZID=America/Indiana/Marengo:20260612T140000
DTSTAMP:20260423T081147
CREATED:20251204T184139Z
LAST-MODIFIED:20251204T190853Z
UID:10000212-1781258400-1781272800@mobilehca.org
SUMMARY:Q2-2 2026 Illinois Coalition Meeting at Lurie Children's Hospital
DESCRIPTION:
URL:https://mobilehca.org/events-single/q2-2026-ohio-coalition-meeting/
CATEGORIES:Regional Coalition Meetings
ATTACH;FMTTYPE=image/png:https://mobilehca.org/wp-content/uploads/2022/12/ohio-image-desktop.png
END:VEVENT
BEGIN:VEVENT
DTSTART;TZID=America/Vancouver:20260625T090000
DTEND;TZID=America/Vancouver:20260625T143000
DTSTAMP:20260423T081147
CREATED:20251204T185111Z
LAST-MODIFIED:20251204T185111Z
UID:10000216-1782378000-1782397800@mobilehca.org
SUMMARY:Q2 2026 Southern California Coalition Meeting
DESCRIPTION:
URL:https://mobilehca.org/events-single/q2-2026-southern-california-coalition-meeting/
CATEGORIES:Regional Coalition Meetings
ATTACH;FMTTYPE=image/png:https://mobilehca.org/wp-content/uploads/2022/12/SoCal-CoalitionPhoto.png
END:VEVENT
BEGIN:VEVENT
DTSTART;TZID=America/Chicago:20260811T140000
DTEND;TZID=America/Chicago:20260811T150000
DTSTAMP:20260423T081147
CREATED:20251124T225332Z
LAST-MODIFIED:20251124T225504Z
UID:10000196-1786456800-1786460400@mobilehca.org
SUMMARY:2026 Q3 Evaluation + Impact Special Interest Group Meeting
DESCRIPTION:
URL:https://mobilehca.org/events-single/2026-q3-evaluation-impact-special-interest-group-meeting/
CATEGORIES:Special Interest Group Meetings
ATTACH;FMTTYPE=image/png:https://mobilehca.org/wp-content/uploads/2025/06/EvaluationCover.png
END:VEVENT
BEGIN:VEVENT
DTSTART;TZID=America/Chicago:20260926T080000
DTEND;TZID=America/Chicago:20260928T170000
DTSTAMP:20260423T081147
CREATED:20251022T230044Z
LAST-MODIFIED:20260319T162054Z
UID:10000172-1790409600-1790614800@mobilehca.org
SUMMARY:22nd Annual Mobile Health Clinics Conference
DESCRIPTION:
URL:https://mobilehca.org/events-single/2026-annual-mobile-healthcare-association-conference/
CATEGORIES:Annual Conference
ATTACH;FMTTYPE=image/webp:https://mobilehca.org/wp-content/uploads/2025/10/DSC07107.webp
END:VEVENT
BEGIN:VEVENT
DTSTART;TZID=America/Chicago:20260926T090000
DTEND;TZID=America/Chicago:20260926T160000
DTSTAMP:20260423T081147
CREATED:20260309T153939Z
LAST-MODIFIED:20260309T154102Z
UID:10000231-1790413200-1790438400@mobilehca.org
SUMMARY:Pre-Conference Mobile Health Clinics Intensive Training Course
DESCRIPTION:
URL:https://mobilehca.org/events-single/pre-conference-mobile-health-clinics-intensive-training-course/
CATEGORIES:Annual Conference
ATTACH;FMTTYPE=image/jpeg:https://mobilehca.org/wp-content/uploads/2022/12/board-nominations-min-jpg.webp
END:VEVENT
BEGIN:VEVENT
DTSTART;VALUE=DATE:20260928
DTEND;VALUE=DATE:20260929
DTSTAMP:20260423T081147
CREATED:20251124T215909Z
LAST-MODIFIED:20251124T215909Z
UID:10000175-1790553600-1790639999@mobilehca.org
SUMMARY:2026 Q3 Behavioral Health Special Interest Group Meeting
DESCRIPTION:
URL:https://mobilehca.org/events-single/2026-q3-behavioral-health-special-interest-group-meeting/
CATEGORIES:Special Interest Group Meetings
ATTACH;FMTTYPE=image/webp:https://mobilehca.org/wp-content/uploads/2025/07/events-image-min-jpg.webp
END:VEVENT
BEGIN:VEVENT
DTSTART;VALUE=DATE:20260928
DTEND;VALUE=DATE:20260929
DTSTAMP:20260423T081147
CREATED:20251124T221314Z
LAST-MODIFIED:20251124T221314Z
UID:10000182-1790553600-1790639999@mobilehca.org
SUMMARY:2026 Q3 Mammography Special Interest Group Meeting
DESCRIPTION:
URL:https://mobilehca.org/events-single/2026-q3-mammography-special-interest-group-meeting/
CATEGORIES:Special Interest Group Meetings
ATTACH;FMTTYPE=image/webp:https://mobilehca.org/wp-content/uploads/2025/06/mammography-image-desktop-jpg.webp
END:VEVENT
BEGIN:VEVENT
DTSTART;VALUE=DATE:20260928
DTEND;VALUE=DATE:20260929
DTSTAMP:20260423T081147
CREATED:20251124T222448Z
LAST-MODIFIED:20251124T222448Z
UID:10000186-1790553600-1790639999@mobilehca.org
SUMMARY:2026 Q3 Pediatrics Special Interest Group Meeting
DESCRIPTION:
URL:https://mobilehca.org/events-single/2026-q3-pediatrics-special-interest-group-meeting/
CATEGORIES:Special Interest Group Meetings
ATTACH;FMTTYPE=image/webp:https://mobilehca.org/wp-content/uploads/2025/06/pediatrics-image-desktop-jpg.webp
END:VEVENT
BEGIN:VEVENT
DTSTART;VALUE=DATE:20260928
DTEND;VALUE=DATE:20260929
DTSTAMP:20260423T081147
CREATED:20251124T223102Z
LAST-MODIFIED:20251124T223102Z
UID:10000190-1790553600-1790639999@mobilehca.org
SUMMARY:2026 Q3 Sexual and Reproductive Health Special Interest Group Meeting
DESCRIPTION:
URL:https://mobilehca.org/events-single/2026-q3-sexual-and-reproductive-health-special-interest-group-meeting/
CATEGORIES:Special Interest Group Meetings
ATTACH;FMTTYPE=image/jpeg:https://mobilehca.org/wp-content/uploads/2022/12/sexual-and-reproductive-health-image-desktop-jpg.webp
END:VEVENT
BEGIN:VEVENT
DTSTART;VALUE=DATE:20260928
DTEND;VALUE=DATE:20260929
DTSTAMP:20260423T081147
CREATED:20251124T223551Z
LAST-MODIFIED:20251124T223551Z
UID:10000194-1790553600-1790639999@mobilehca.org
SUMMARY:2026 Q3 Vision Special Interest Group Meeting
DESCRIPTION:
URL:https://mobilehca.org/events-single/2026-q3-vision-special-interest-group-meeting/
CATEGORIES:Special Interest Group Meetings
ATTACH;FMTTYPE=image/jpeg:https://mobilehca.org/wp-content/uploads/2022/12/vision-image-desktop-jpg.webp
END:VEVENT
BEGIN:VEVENT
DTSTART;TZID=America/Chicago:20261028T130000
DTEND;TZID=America/Chicago:20261028T141500
DTSTAMP:20260423T081147
CREATED:20251218T174020Z
LAST-MODIFIED:20251223T164325Z
UID:10000224-1793192400-1793196900@mobilehca.org
SUMMARY:Financial Stability: Two Part Session - Part One
DESCRIPTION:As mobile healthcare programs face increasing uncertainty in federal and grant funding\, financial resilience has become essential for long-term impact. \nPart 1: October 28\, 2026 \nPart 1 of the Financial Stability Masterclass provides an in-depth foundation in sustainable revenue-cycle principles tailored to mobile operations. Participants will explore the components of a strong financial model\, gain clarity on the unique billing and reimbursement considerations for mobile care\, and learn how to identify and leverage diverse funding streams. This session emphasizes strategic decision-making and highlights opportunities to strengthen financial stability through partnerships with financial experts and community funders. \nLearning Objectives:\nBy the end of this session\, participants will be able to: \n\nDevelop a sustainable financial model that incorporates effective revenue cycle management strategies for mobile healthcare.\nIdentify and evaluate potential partnerships with financial experts\, community organizations\, and funding resources that support ongoing program stability.\nRecognize the key components of mobile healthcare billing and how they impact organizational financial planning.
URL:https://mobilehca.org/events-single/financial-stability-two-part-session/
CATEGORIES:Webinars
ATTACH;FMTTYPE=image/png:https://mobilehca.org/wp-content/uploads/2025/12/masterclass-financial-security.png
END:VEVENT
BEGIN:VEVENT
DTSTART;TZID=America/Chicago:20261104T130000
DTEND;TZID=America/Chicago:20261104T141500
DTSTAMP:20260423T081147
CREATED:20251218T184738Z
LAST-MODIFIED:20251218T184919Z
UID:10000226-1793797200-1793801700@mobilehca.org
SUMMARY:Financial Stability: Two Part Session - Part Two
DESCRIPTION:Part 2: November 4\, 2026 \nBuilding on the foundational concepts from Part 1\, Part 2 equips participants with the technical and operational knowledge needed to optimize reimbursement and reduce financial risk. This session focuses on the complexities of Medicaid billing\, the nuances of mobile-specific documentation requirements\, and common pitfalls that lead to denied or delayed payments. Participants will learn practical denial-management strategies and explore process improvements to strengthen the mobile unit’s financial performance. This hands-on\, solutions-focused session ensures that organizations leave better prepared to safeguard and grow their revenue. \nLearning Objectives:\nBy the end of this session\, participants will be able to: \n\nInterpret and apply key Medicaid billing rules and requirements specific to mobile healthcare.\nIdentify common mobile health billing issues and implement solutions to prevent errors.\nApply denial management techniques to increase reimbursement and improve overall revenue integrity.\nStrengthen internal processes to support timely\, accurate billing and financial decision-making.
URL:https://mobilehca.org/events-single/financial-stability-two-part-session-part-two/
CATEGORIES:Webinars
ATTACH;FMTTYPE=image/png:https://mobilehca.org/wp-content/uploads/2025/12/masterclass-financial-security.png
END:VEVENT
BEGIN:VEVENT
DTSTART;TZID=America/Chicago:20261105T140000
DTEND;TZID=America/Chicago:20261105T150000
DTSTAMP:20260423T081147
CREATED:20251204T204837Z
LAST-MODIFIED:20251204T204837Z
UID:10000219-1793887200-1793890800@mobilehca.org
SUMMARY:Q4 2026 Behavioral Health Special Interest Group Meeting
DESCRIPTION:
URL:https://mobilehca.org/events-single/q4-2026-behavioral-health-special-interest-group-meeting/
CATEGORIES:Regional Coalition Meetings
ATTACH;FMTTYPE=image/jpeg:https://mobilehca.org/wp-content/uploads/2022/12/events-image-min-jpg.webp
END:VEVENT
END:VCALENDAR